BEGIN:VCALENDAR
VERSION:2.0
PRODID:-//Café et Conversation Midwest - ECPv6.15.20//NONSGML v1.0//EN
CALSCALE:GREGORIAN
METHOD:PUBLISH
X-WR-CALNAME:Café et Conversation Midwest
X-ORIGINAL-URL:https://cafeconversationmidwest.com
X-WR-CALDESC:Events for Café et Conversation Midwest
REFRESH-INTERVAL;VALUE=DURATION:PT1H
X-Robots-Tag:noindex
X-PUBLISHED-TTL:PT1H
BEGIN:VTIMEZONE
TZID:America/Chicago
BEGIN:DAYLIGHT
TZOFFSETFROM:-0600
TZOFFSETTO:-0500
TZNAME:CDT
DTSTART:20240310T080000
END:DAYLIGHT
BEGIN:STANDARD
TZOFFSETFROM:-0500
TZOFFSETTO:-0600
TZNAME:CST
DTSTART:20241103T070000
END:STANDARD
BEGIN:DAYLIGHT
TZOFFSETFROM:-0600
TZOFFSETTO:-0500
TZNAME:CDT
DTSTART:20250309T080000
END:DAYLIGHT
BEGIN:STANDARD
TZOFFSETFROM:-0500
TZOFFSETTO:-0600
TZNAME:CST
DTSTART:20251102T070000
END:STANDARD
BEGIN:DAYLIGHT
TZOFFSETFROM:-0600
TZOFFSETTO:-0500
TZNAME:CDT
DTSTART:20260308T080000
END:DAYLIGHT
BEGIN:STANDARD
TZOFFSETFROM:-0500
TZOFFSETTO:-0600
TZNAME:CST
DTSTART:20261101T070000
END:STANDARD
END:VTIMEZONE
BEGIN:VEVENT
DTSTART;TZID=America/Chicago:20251105T173000
DTEND;TZID=America/Chicago:20251105T190000
DTSTAMP:20260420T160130
CREATED:20251101T014256Z
LAST-MODIFIED:20251101T014256Z
UID:1226-1762363800-1762369200@cafeconversationmidwest.com
SUMMARY:Parlons à Site-1 Brewing
DESCRIPTION:It’s been a while\, but for our first November event\, C&C will return to Site-1 Brewing on Farnam Street! Site-1 has an extensive beer menu along with craft cocktails. Since the last time we met there\, they have significantly expanded their food options and now offer Detroit style pizza as well as sandwiches and salads. Happy hour ends at 6pm\, so get there before then if you want to take advantage.\nParking can be found in a free lot across the street on 26th and Farnam as well as on Farnam (metered).\nWe hope to see many of you there – remember\, from beginners to native French speakers\, everyone is welcome! À mercredi !
URL:https://cafeconversationmidwest.com/event/parlons-a-site-1-brewing/
LOCATION:Site-1 Brewing\, 2566 Farnam Street\, Omaha\, NE\, 68131\, United States
ATTACH;FMTTYPE=image/png:https://cafeconversationmidwest.com/wp-content/uploads/2025/10/1690154949158blob.png
END:VEVENT
BEGIN:VEVENT
DTSTART;TZID=America/Chicago:20251109T123000
DTEND;TZID=America/Chicago:20251109T140000
DTSTAMP:20260420T160130
CREATED:20251104T012051Z
LAST-MODIFIED:20251104T012051Z
UID:1232-1762691400-1762696800@cafeconversationmidwest.com
SUMMARY:Café et Conversation Lincoln - Lancer de haches
DESCRIPTION:What’s better than gathering to speak French? Throwing axes at the same time! The cost of axe throwing will depend on the size of our group ($19-$22). To RSVP\, please send a message directly to Sara Parkening or email her at esparken@gmail.com. We will reserve a lane or two for one hour. Arbor Axe House has a small parking lot and a bar. At 2pm\, we will head across the street to Saro Cider for a drink and continued French conversation! Join us for one or both!
URL:https://cafeconversationmidwest.com/event/cafe-et-conversation-lincoln-lancer-de-haches/
LOCATION:Arbor Axe House\, 1821 N Street\, Lincoln\, NE\, 68508\, United States
ATTACH;FMTTYPE=image/jpeg:https://cafeconversationmidwest.com/wp-content/uploads/2025/11/arboraxe.jpg
END:VEVENT
BEGIN:VEVENT
DTSTART;TZID=America/Chicago:20251109T140000
DTEND;TZID=America/Chicago:20251109T153000
DTSTAMP:20260420T160130
CREATED:20251104T012850Z
LAST-MODIFIED:20251104T012850Z
UID:1237-1762696800-1762702200@cafeconversationmidwest.com
SUMMARY:Café et Conversation Lincoln - Saro Cider
DESCRIPTION:Axe throwing isn’t your thing? Ça va! Meet up with us after axe throwing at Saro Cider. We have reserved some tables for our group. Street parking available.\nIf you are interested in axe throwing with the group\, please see the “Lancer de Haches” event and R.S.V.P to Sara at esparken@gmail.com.
URL:https://cafeconversationmidwest.com/event/cafe-et-conversation-lincoln-saro-cider/
LOCATION:Saro Cider\, 1746 N Street\, Lincoln\, NE\, 68508\, United States
ATTACH;FMTTYPE=image/jpeg:https://cafeconversationmidwest.com/wp-content/uploads/2025/11/saro.jpg
END:VEVENT
BEGIN:VEVENT
DTSTART;TZID=America/Chicago:20251115T100000
DTEND;TZID=America/Chicago:20251115T120000
DTSTAMP:20260420T160130
CREATED:20251031T195420Z
LAST-MODIFIED:20251031T195420Z
UID:1222-1763200800-1763208000@cafeconversationmidwest.com
SUMMARY:Café et Conversation - Sioux City
DESCRIPTION:Coucou! Come smell the coffee and parler avec nous! Free\, casual French conversation for all levels. Whether you are most comfortable just listening or conversing\, come as you are and relax with us.
URL:https://cafeconversationmidwest.com/event/cafe-et-conversation-sioux-city-9/
LOCATION:Council Oak Coffee Roasters\, 101 W 3rd\, Sioux City\, IA\, United States
ATTACH;FMTTYPE=image/jpeg:https://cafeconversationmidwest.com/wp-content/uploads/2025/10/counciloakpeople7.jpg
END:VEVENT
BEGIN:VEVENT
DTSTART;TZID=America/Chicago:20251116T140000
DTEND;TZID=America/Chicago:20251116T153000
DTSTAMP:20260420T160130
CREATED:20251116T161746Z
LAST-MODIFIED:20251116T161746Z
UID:1243-1763301600-1763307000@cafeconversationmidwest.com
SUMMARY:Parlons à Fig
DESCRIPTION:Fig is a café located inside the Luminarium building on the Omaha Riverfront. They have a limited beer and wine selection as well as coffee and a few other non-alcoholic drinks. Food is also served at this venue.\nFree parking is available in the lot beside the building. Admission to the Luminarium is not needed to enter Fig as they have a separate entrance.\nAs always\, everyone is welcome regardless of your French level. We hope to see you there!
URL:https://cafeconversationmidwest.com/event/parlons-a-fig-7/
LOCATION:Fig\, 345 Riverfront Dr\, Omaha\, Nebraska
ATTACH;FMTTYPE=image/jpeg:https://cafeconversationmidwest.com/wp-content/uploads/2025/09/figjuly.jpg
END:VEVENT
BEGIN:VEVENT
DTSTART;TZID=America/Chicago:20251123T123000
DTEND;TZID=America/Chicago:20251123T140000
DTSTAMP:20260420T160130
CREATED:20251116T162212Z
LAST-MODIFIED:20251116T162212Z
UID:1245-1763901000-1763906400@cafeconversationmidwest.com
SUMMARY:Parlons à Karma Koffee
DESCRIPTION:Bonjour tout le monde! We’re returning to Karma Koffee for a “pre-Thanksgiving” chat session. They have plenty of tasty options ranging from coffee\, tea and smoothies to breakfast items and pastries.\nKarma Koffee is located in Pepperwood Village near 156th and Dodge on the north side of the plaza.\nWe hope to see you there no matter your level of French!
URL:https://cafeconversationmidwest.com/event/parlons-a-karma-koffee-2/
LOCATION:Karma Koffee\, 587 North 155th Plaza\, Omaha\, NE
ATTACH;FMTTYPE=image/jpeg:https://cafeconversationmidwest.com/wp-content/uploads/2025/04/Karma-Koffee.jpg
END:VEVENT
END:VCALENDAR