BEGIN:VCALENDAR
VERSION:2.0
PRODID:-//Café et Conversation Midwest - ECPv6.15.20//NONSGML v1.0//EN
CALSCALE:GREGORIAN
METHOD:PUBLISH
X-ORIGINAL-URL:https://cafeconversationmidwest.com
X-WR-CALDESC:Events for Café et Conversation Midwest
REFRESH-INTERVAL;VALUE=DURATION:PT1H
X-Robots-Tag:noindex
X-PUBLISHED-TTL:PT1H
BEGIN:VTIMEZONE
TZID:America/Chicago
BEGIN:DAYLIGHT
TZOFFSETFROM:-0600
TZOFFSETTO:-0500
TZNAME:CDT
DTSTART:20240310T080000
END:DAYLIGHT
BEGIN:STANDARD
TZOFFSETFROM:-0500
TZOFFSETTO:-0600
TZNAME:CST
DTSTART:20241103T070000
END:STANDARD
BEGIN:DAYLIGHT
TZOFFSETFROM:-0600
TZOFFSETTO:-0500
TZNAME:CDT
DTSTART:20250309T080000
END:DAYLIGHT
BEGIN:STANDARD
TZOFFSETFROM:-0500
TZOFFSETTO:-0600
TZNAME:CST
DTSTART:20251102T070000
END:STANDARD
BEGIN:DAYLIGHT
TZOFFSETFROM:-0600
TZOFFSETTO:-0500
TZNAME:CDT
DTSTART:20260308T080000
END:DAYLIGHT
BEGIN:STANDARD
TZOFFSETFROM:-0500
TZOFFSETTO:-0600
TZNAME:CST
DTSTART:20261101T070000
END:STANDARD
END:VTIMEZONE
BEGIN:VEVENT
DTSTART;TZID=America/Chicago:20250907T140000
DTEND;TZID=America/Chicago:20250907T153000
DTSTAMP:20260420T185315
CREATED:20250905T023853Z
LAST-MODIFIED:20250905T023853Z
UID:1180-1757253600-1757259000@cafeconversationmidwest.com
SUMMARY:Parlons à Fig
DESCRIPTION:Fig is a café located inside the Luminarium building on the Omaha Riverfront. They have a limited beer and wine selection as well as coffee and a few other non-alcoholic drinks. Food is also served at this venue.\nWeather depending\, we might sit out on the patio.\nFree parking is available in the lot beside the building. Admission to the Luminarium is not needed to enter Fig as they have a separate entrance.\nAs always\, everyone is welcome regardless of your French level. We hope to see you there!
URL:https://cafeconversationmidwest.com/event/parlons-a-fig-6/
LOCATION:Fig\, 345 Riverfront Dr\, Omaha\, Nebraska
ATTACH;FMTTYPE=image/jpeg:https://cafeconversationmidwest.com/wp-content/uploads/2025/09/figjuly.jpg
END:VEVENT
BEGIN:VEVENT
DTSTART;TZID=America/Chicago:20250917T180000
DTEND;TZID=America/Chicago:20250917T193000
DTSTAMP:20260420T185315
CREATED:20250911T033423Z
LAST-MODIFIED:20250911T033423Z
UID:1190-1758132000-1758137400@cafeconversationmidwest.com
SUMMARY:Parlons à iDLE Wine & Goods
DESCRIPTION:Salut! For the third week of September\, we will be heading back to iDLE Wine & Goods in Little Bohemia. Those of you who were at C&C meetings there in the past will remember its tasty wine and cozy atmosphere.\nAs well as wine\, iDLE sells tasty and unusual snacks. They share a building with Lumen Beer Company and those who wish to order beer can easily move between the two shops. Lumen also has pizza and other bites.\nParking is available on 13th Street and in a lot on 13th and William.\nEveryone is welcome and encouraged to come\, no matter if you are a beginner\, a native French speaker\, or somewhere in between. Hope to see you there!
URL:https://cafeconversationmidwest.com/event/parlons-a-idle-wine-goods-2/
LOCATION:iDLE Wine & Goods\, 1433 S 13th S\, Omaha\, NE\, United States
ATTACH;FMTTYPE=image/jpeg:https://cafeconversationmidwest.com/wp-content/uploads/2025/09/idlefeb2025.jpg
END:VEVENT
BEGIN:VEVENT
DTSTART;TZID=America/Chicago:20250920T100000
DTEND;TZID=America/Chicago:20250920T120000
DTSTAMP:20260420T185315
CREATED:20250806T021444Z
LAST-MODIFIED:20250806T021444Z
UID:1161-1758362400-1758369600@cafeconversationmidwest.com
SUMMARY:Café et Conversation - Sioux City
DESCRIPTION:Fall into French! Ok\, the first official day of fall isn’t until September 22\, but pretend you’re wearing a chic blazer from a Paris boutique\, with a cozy scarf draped around your neck. We’ll sip a delicious café and munch on a chocolate chip scone.\nFree\, casual French conversation practice wrapped in a wonderful setting with great people. Hope to see you there!
URL:https://cafeconversationmidwest.com/event/cafe-et-conversation-sioux-city-7/
LOCATION:Council Oak Coffee Roasters\, 101 W 3rd\, Sioux City\, IA\, United States
ATTACH;FMTTYPE=image/jpeg:https://cafeconversationmidwest.com/wp-content/uploads/2025/06/counciloakpeople5.jpg
END:VEVENT
BEGIN:VEVENT
DTSTART;TZID=America/Chicago:20250925T173000
DTEND;TZID=America/Chicago:20250925T190000
DTSTAMP:20260420T185315
CREATED:20250910T032456Z
LAST-MODIFIED:20250910T032456Z
UID:1184-1758821400-1758826800@cafeconversationmidwest.com
SUMMARY:Café et Conversation à Estilo Jalisco Restaurant
DESCRIPTION:Bonjour\, tout le monde! Well\, let’s try a new place! We’re going to hang at Estilo Jalisco Mexican Restaurant (formerly El Águila for you old-timers!) on Vinton St. They have a nice\, large outside patio attached to the restaurant we can utilize. Plus there is beaucoup de free parking across the street at the Supermercado Nuestra Familia grocery store. All levels welcome so come join us!
URL:https://cafeconversationmidwest.com/event/cafe-et-conversation-a-estilo-jalisco-restaurant/
LOCATION:Estilo Jalisco\, 1837 Vinton Street\, Omaha\, NE\, 68108\, United States
ATTACH;FMTTYPE=image/webp:https://cafeconversationmidwest.com/wp-content/uploads/2025/09/estilojalisco.webp
END:VEVENT
BEGIN:VEVENT
DTSTART;TZID=America/Chicago:20250927T160000
DTEND;TZID=America/Chicago:20250927T180000
DTSTAMP:20260420T185315
CREATED:20250915T005234Z
LAST-MODIFIED:20250915T005234Z
UID:1193-1758988800-1758996000@cafeconversationmidwest.com
SUMMARY:Café et Conversation - Lincoln
DESCRIPTION:Michelle et David Diamant nous invitent chez eux\, 1845 E street\, (maison bleue au coin) pour le “meet-up” de septembre. Apportez quelque chose à boire et/ou à manger pour partager avec le groupe.
URL:https://cafeconversationmidwest.com/event/cafe-et-conversation-lincoln/
LOCATION:Chez Michelle & David\, 1845 E Street\, Lincoln\, NE\, 68508\, United States
ATTACH;FMTTYPE=image/jpeg:https://cafeconversationmidwest.com/wp-content/uploads/2025/07/cclincoln2.jpg
END:VEVENT
BEGIN:VEVENT
DTSTART;TZID=America/Chicago:20250928T133000
DTEND;TZID=America/Chicago:20250928T150000
DTSTAMP:20260420T185315
CREATED:20250915T005534Z
LAST-MODIFIED:20250915T005534Z
UID:1197-1759066200-1759071600@cafeconversationmidwest.com
SUMMARY:Back to Basics au Moulin
DESCRIPTION:Join us at The Mill on Leavenworth St. for some relaxed and welcoming French conversation practice!\nWhether you’re brand new to French or looking to refresh the basics\, this session is all about building confidence in speaking. We’ll keep things simple\, supportive\, and fun—no pressure\, just practice!\nEnjoy a coffee\, meet new people\, and take your French to the next level in a friendly atmosphere. All levels are welcome!
URL:https://cafeconversationmidwest.com/event/back-to-basics-au-moulin/
LOCATION:The Mill on Leavenworth\, 3105 Leavenworth\, Omaha\, NE\, 68105\, United States
ATTACH;FMTTYPE=image/jpeg:https://cafeconversationmidwest.com/wp-content/uploads/2025/03/367425021_10232771773667160_7679569742794317415_n.jpg
END:VEVENT
END:VCALENDAR