BEGIN:VCALENDAR
VERSION:2.0
PRODID:-//Café et Conversation Midwest - ECPv6.15.20//NONSGML v1.0//EN
CALSCALE:GREGORIAN
METHOD:PUBLISH
X-ORIGINAL-URL:https://cafeconversationmidwest.com
X-WR-CALDESC:Events for Café et Conversation Midwest
REFRESH-INTERVAL;VALUE=DURATION:PT1H
X-Robots-Tag:noindex
X-PUBLISHED-TTL:PT1H
BEGIN:VTIMEZONE
TZID:America/Chicago
BEGIN:DAYLIGHT
TZOFFSETFROM:-0600
TZOFFSETTO:-0500
TZNAME:CDT
DTSTART:20240310T080000
END:DAYLIGHT
BEGIN:STANDARD
TZOFFSETFROM:-0500
TZOFFSETTO:-0600
TZNAME:CST
DTSTART:20241103T070000
END:STANDARD
BEGIN:DAYLIGHT
TZOFFSETFROM:-0600
TZOFFSETTO:-0500
TZNAME:CDT
DTSTART:20250309T080000
END:DAYLIGHT
BEGIN:STANDARD
TZOFFSETFROM:-0500
TZOFFSETTO:-0600
TZNAME:CST
DTSTART:20251102T070000
END:STANDARD
BEGIN:DAYLIGHT
TZOFFSETFROM:-0600
TZOFFSETTO:-0500
TZNAME:CDT
DTSTART:20260308T080000
END:DAYLIGHT
BEGIN:STANDARD
TZOFFSETFROM:-0500
TZOFFSETTO:-0600
TZNAME:CST
DTSTART:20261101T070000
END:STANDARD
END:VTIMEZONE
BEGIN:VEVENT
DTSTART;TZID=America/Chicago:20250706T140000
DTEND;TZID=America/Chicago:20250706T153000
DTSTAMP:20260420T221320
CREATED:20250702T012553Z
LAST-MODIFIED:20250702T012553Z
UID:1127-1751810400-1751815800@cafeconversationmidwest.com
SUMMARY:Parlons à Fig
DESCRIPTION:Fig is a café located inside the Luminarium building on the Omaha Riverfront. They have a limited beer and wine selection as well as coffee and a few other non-alcoholic drinks. Food is also served at this venue. \nDepending on how hot it is on Sunday\, we might sit out on the patio. \nFree parking is available in the lot beside the building. Admission to the Luminarium is not needed to enter Fig as they have a separate entrance. \nAs always\, everyone is welcome regardless of your French level. We hope to see you there!
URL:https://cafeconversationmidwest.com/event/parlons-a-fig-5/
LOCATION:Fig\, 345 Riverfront Dr\, Omaha\, Nebraska
ATTACH;FMTTYPE=image/jpeg:https://cafeconversationmidwest.com/wp-content/uploads/2025/07/figapril1-scaled.jpg
END:VEVENT
BEGIN:VEVENT
DTSTART;TZID=America/Chicago:20250715T173000
DTEND;TZID=America/Chicago:20250715T190000
DTSTAMP:20260420T221320
CREATED:20250702T012857Z
LAST-MODIFIED:20250702T012857Z
UID:1130-1752600600-1752606000@cafeconversationmidwest.com
SUMMARY:Conversation à The Mill
DESCRIPTION:The third week of July\, C&C will return to The Mill. They offer both non-alcoholic and alcoholic drink options including coffee\, tea\, hot chocolate\, wine and cocktails as well as some food.\n\n\nWe will be meeting out on their spacious patio\, weather permitting. Parking is available alongside the building\, in the parking lot behind the building as well as on Leavenworth Street.\n\n\nAs always\, everyone is welcome\, regardless of your French level. We hope to see you there!
URL:https://cafeconversationmidwest.com/event/conversation-a-the-mill-2/
LOCATION:The Mill on Leavenworth\, 3105 Leavenworth\, Omaha\, NE\, 68105\, United States
ATTACH;FMTTYPE=image/jpeg:https://cafeconversationmidwest.com/wp-content/uploads/2025/04/The-Mill.jpg
END:VEVENT
BEGIN:VEVENT
DTSTART;TZID=America/Chicago:20250719T100000
DTEND;TZID=America/Chicago:20250719T120000
DTSTAMP:20260420T221320
CREATED:20250717T011510Z
LAST-MODIFIED:20250717T011510Z
UID:1142-1752919200-1752926400@cafeconversationmidwest.com
SUMMARY:Café et Conversation - Sioux City
DESCRIPTION:Coucou mes amis!! It’s the one year anniversary of our Sioux City Group! Celebrate with us on July 19th at Council Oak Coffee. Friends\, French conversation and coffee. The perfect Saturday morning treat.
URL:https://cafeconversationmidwest.com/event/cafe-et-conversation-sioux-city-5/
LOCATION:NE
ATTACH;FMTTYPE=image/jpeg:https://cafeconversationmidwest.com/wp-content/uploads/2025/06/counciloakpeople6-scaled.jpg
END:VEVENT
BEGIN:VEVENT
DTSTART;TZID=America/Chicago:20250724T173000
DTEND;TZID=America/Chicago:20250724T190000
DTSTAMP:20260420T221320
CREATED:20250702T013641Z
LAST-MODIFIED:20250702T013641Z
UID:1133-1753378200-1753383600@cafeconversationmidwest.com
SUMMARY:Café et Conversation Midwest at Trucks & Taps
DESCRIPTION:Rebonjour tout le monde! We’re returning to Trucks & Taps\, a wonderful outdoor venue with plenty of libations and eats at whatever food trucks are there. Rejoignez-nous pour la conversation! All levels welcome! À bientôt!
URL:https://cafeconversationmidwest.com/event/cafe-et-conversation-midwest-at-trucks-taps/
LOCATION:Trucks & Taps\, 5402 South 108th Street\, Omaha\, NE\, 68137\, United States
ATTACH;FMTTYPE=image/jpeg:https://cafeconversationmidwest.com/wp-content/uploads/2025/04/Taps.jpg
END:VEVENT
BEGIN:VEVENT
DTSTART;TZID=America/Chicago:20250726T170000
DTEND;TZID=America/Chicago:20250726T190000
DTSTAMP:20260420T221320
CREATED:20250721T013920Z
LAST-MODIFIED:20250721T013920Z
UID:1144-1753549200-1753556400@cafeconversationmidwest.com
SUMMARY:C&C Lincoln
DESCRIPTION:This month\, Sara Parkening would like to invite members to her home for an evening of French conversation. Please bring a drink and/or a food item to share with the group. Please park either in the driveway (not blocking the sidewalk) or on 44th Street. It is not advisable to park on Sheridan Boulevard in front of her house.
URL:https://cafeconversationmidwest.com/event/cc-lincoln-2/
LOCATION:Chez Sara\, 4310 Sheridan Boulevard\, Lincoln\, NE\, 68506\, United States
ATTACH;FMTTYPE=image/jpeg:https://cafeconversationmidwest.com/wp-content/uploads/2025/07/cclincoln2.jpg
END:VEVENT
BEGIN:VEVENT
DTSTART;TZID=America/Chicago:20250731T173000
DTEND;TZID=America/Chicago:20250731T190000
DTSTAMP:20260420T221320
CREATED:20250721T022720Z
LAST-MODIFIED:20250721T022720Z
UID:1150-1753983000-1753988400@cafeconversationmidwest.com
SUMMARY:Parlons à Cellar 44
DESCRIPTION:For our last July event\, C&C will be returning to a venue that we enjoyed last year! Cellar 44 is a wine bar in the Shops of Legacy. Apart from wine\, they also offer charcuterie\, sliders\, and light bites.\nAs always\, all levels are welcome and encouraged to come. Venez nous rejoindre!
URL:https://cafeconversationmidwest.com/event/parlons-a-cellar-44/
LOCATION:Cellar 44\, 2835 South 170th Plaza\, Omaha\, NE\, 68130\, United States
ATTACH;FMTTYPE=image/jpeg:https://cafeconversationmidwest.com/wp-content/uploads/2024/10/461893701_10231002680804843_8850415292073611795_n.jpg
ORGANIZER;CN="Jennifer McGill":MAILTO:jenandoah1@gmail.com
END:VEVENT
END:VCALENDAR