BEGIN:VCALENDAR
VERSION:2.0
PRODID:-//Café et Conversation Midwest - ECPv6.15.20//NONSGML v1.0//EN
CALSCALE:GREGORIAN
METHOD:PUBLISH
X-ORIGINAL-URL:https://cafeconversationmidwest.com
X-WR-CALDESC:Events for Café et Conversation Midwest
REFRESH-INTERVAL;VALUE=DURATION:PT1H
X-Robots-Tag:noindex
X-PUBLISHED-TTL:PT1H
BEGIN:VTIMEZONE
TZID:America/Chicago
BEGIN:DAYLIGHT
TZOFFSETFROM:-0600
TZOFFSETTO:-0500
TZNAME:CDT
DTSTART:20240310T080000
END:DAYLIGHT
BEGIN:STANDARD
TZOFFSETFROM:-0500
TZOFFSETTO:-0600
TZNAME:CST
DTSTART:20241103T070000
END:STANDARD
BEGIN:DAYLIGHT
TZOFFSETFROM:-0600
TZOFFSETTO:-0500
TZNAME:CDT
DTSTART:20250309T080000
END:DAYLIGHT
BEGIN:STANDARD
TZOFFSETFROM:-0500
TZOFFSETTO:-0600
TZNAME:CST
DTSTART:20251102T070000
END:STANDARD
BEGIN:DAYLIGHT
TZOFFSETFROM:-0600
TZOFFSETTO:-0500
TZNAME:CDT
DTSTART:20260308T080000
END:DAYLIGHT
BEGIN:STANDARD
TZOFFSETFROM:-0500
TZOFFSETTO:-0600
TZNAME:CST
DTSTART:20261101T070000
END:STANDARD
END:VTIMEZONE
BEGIN:VEVENT
DTSTART;TZID=America/Chicago:20250503T100000
DTEND;TZID=America/Chicago:20250503T113000
DTSTAMP:20260421T030039
CREATED:20250430T222652Z
LAST-MODIFIED:20250430T222652Z
UID:1079-1746266400-1746271800@cafeconversationmidwest.com
SUMMARY:Parlons à Myrtle & Cypress (Omaha Conservatory of Music)
DESCRIPTION:Bonjour à tous! This coming weekend\, C&C will be meeting at the Omaha Conservatory of Music location of Myrtle & Cypress.\n\nMyrtle & Cypress serves coffee\, tea and a few pastries and savory items.\n\nFree parking is available in the Omaha Conservatory of Music lot.\n\nEveryone is welcome and encouraged to come\, no matter if you are a beginner\, a native French speaker\, or somewhere in between. This is an all-ages venue so high school and college students are especially encouraged to come. Hope to see you there!
URL:https://cafeconversationmidwest.com/event/parlons-a-myrtle-cypress-omaha-conservatory-of-music-3/
LOCATION:Omaha Conservatory of Omaha\, 7023 Cass St\, Omaha\, NE\, 68132\, United States
ATTACH;FMTTYPE=image/jpeg:https://cafeconversationmidwest.com/wp-content/uploads/2025/01/474460155_10170736360685109_8948450555636051550_n.jpg
END:VEVENT
BEGIN:VEVENT
DTSTART;TZID=America/Chicago:20250515T173000
DTEND;TZID=America/Chicago:20250515T190000
DTSTAMP:20260421T030039
CREATED:20250430T223105Z
LAST-MODIFIED:20250430T223105Z
UID:1081-1747330200-1747335600@cafeconversationmidwest.com
SUMMARY:Conversation à La Bo - Dundee
DESCRIPTION:Join us for some French conversation at La Bo! La Bo is a brand-new bodega underneath Ooh De Lally in Dundee. They have indoor and outdoor seating (we’ll try to be outdoors if the weather is nice). They serve beer\, wine\, cocktails\, and small bites.\n\nAll levels of French are welcome!
URL:https://cafeconversationmidwest.com/event/conversation-a-la-bo-dundee/
LOCATION:La Bo: The Bodea at Ooh De Lally\, 4916 Underwood Ave\, Omaha\, NE\, 68132\, United States
ATTACH;FMTTYPE=image/jpeg:https://cafeconversationmidwest.com/wp-content/uploads/2025/04/La-Bo-the-Bodega.jpg
END:VEVENT
BEGIN:VEVENT
DTSTART;TZID=America/Chicago:20250517T100000
DTEND;TZID=America/Chicago:20250517T120000
DTSTAMP:20260421T030039
CREATED:20250421T235147Z
LAST-MODIFIED:20250421T235147Z
UID:1075-1747476000-1747483200@cafeconversationmidwest.com
SUMMARY:Sioux City
DESCRIPTION:It’s coffee and conversation time! Everyone is welcome regardless of where you’re at in your French language skills! Come soak in the atmosphere and rich aromas. Grab a coffee and a baked good. Let’s practice and learn together.\nFree! 3rd Saturday of every month. Same place\, new friends. Hope you’ll join us.
URL:https://cafeconversationmidwest.com/event/sioux-city/
LOCATION:Council Oak Coffee Roasters\, 101 W 3rd\, Sioux City\, IA\, United States
ATTACH;FMTTYPE=image/jpeg:https://cafeconversationmidwest.com/wp-content/uploads/2025/04/Sioux-City.jpg
END:VEVENT
BEGIN:VEVENT
DTSTART;TZID=America/Chicago:20250520T170000
DTEND;TZID=America/Chicago:20250520T190000
DTSTAMP:20260421T030039
CREATED:20250430T224056Z
LAST-MODIFIED:20250430T224136Z
UID:1085-1747760400-1747767600@cafeconversationmidwest.com
SUMMARY:C&C Lincoln at Bin 105
DESCRIPTION:Bin105 is favorite meeting place for our C&C Lincoln Events. Come enjoy an evening of casual French conversation.\n\nSample many wines from their wine machine using a wine card (pay by the pour) or use the same card to pour yourself a more generous glass. Small appetizers will able be available for purchase.\n\nPlease note: Parking can be a bit tricky down in the Haymarket.
URL:https://cafeconversationmidwest.com/event/cc-lincoln-at-bin-105/
LOCATION:Bin 105 Quality Wines\, 105 N 8th Street\, Suite 100\, Lincoln\, NE\, 68508\, United States
ATTACH;FMTTYPE=image/jpeg:https://cafeconversationmidwest.com/wp-content/uploads/2025/04/Bin-105.jpg
END:VEVENT
BEGIN:VEVENT
DTSTART;TZID=America/Chicago:20250522T173000
DTEND;TZID=America/Chicago:20250522T190000
DTSTAMP:20260421T030039
CREATED:20250430T224429Z
LAST-MODIFIED:20250430T224429Z
UID:1089-1747935000-1747940400@cafeconversationmidwest.com
SUMMARY:Conversation à The Mill
DESCRIPTION:This week C&C will return to The Mill. They offer both non-alcoholic and alcoholic drink options including coffee\, tea\, hot chocolate\, wine and cocktails as well as some food.\n\nWe will be meeting out on their spacious patio\, weather permitting. Parking is available alongside the building\, in the parking lot behind the building as well as on Leavenworth Street.\n\nAs always\, everyone is welcome\, regardless of your French level. We hope to see you there!
URL:https://cafeconversationmidwest.com/event/conversation-a-the-mill/
LOCATION:The Mill on Leavenworth\, 3105 Leavenworth\, Omaha\, NE\, 68105\, United States
ATTACH;FMTTYPE=image/jpeg:https://cafeconversationmidwest.com/wp-content/uploads/2025/04/The-Mill.jpg
END:VEVENT
BEGIN:VEVENT
DTSTART;TZID=America/Chicago:20250531T133000
DTEND;TZID=America/Chicago:20250531T150000
DTSTAMP:20260421T030039
CREATED:20250527T230520Z
LAST-MODIFIED:20250527T231321Z
UID:1096-1748698200-1748703600@cafeconversationmidwest.com
SUMMARY:Parlons à Myrtle & Cypress
DESCRIPTION:Bonjour à tous! This coming weekend\, C&C will be meeting at the Omaha Conservatory of Music location of Myrtle & Cypress.\n\nMyrtle & Cypress serves coffee\, tea and a few pastries and savory items.\n\nFree parking is available in the Omaha Conservatory of Music lot.\n\nEveryone is welcome and encouraged to come\, no matter if you are a beginner\, a native French speaker\, or somewhere in between. This is an all-ages venue so high school and college students are especially encouraged to come. Hope to see you there!
URL:https://cafeconversationmidwest.com/event/parlons-a-myrtle-cypress/
LOCATION:Myrtle & Cypress (Omaha Conservatory of Music)\, 7023 Cass Street\, Omaha\, NE\, 68132\, United States
ATTACH;FMTTYPE=image/jpeg:https://cafeconversationmidwest.com/wp-content/uploads/2025/05/myrtlecc.jpg
END:VEVENT
END:VCALENDAR