BEGIN:VCALENDAR
VERSION:2.0
PRODID:-//Café et Conversation Midwest - ECPv6.15.20//NONSGML v1.0//EN
CALSCALE:GREGORIAN
METHOD:PUBLISH
X-WR-CALNAME:Café et Conversation Midwest
X-ORIGINAL-URL:https://cafeconversationmidwest.com
X-WR-CALDESC:Events for Café et Conversation Midwest
REFRESH-INTERVAL;VALUE=DURATION:PT1H
X-Robots-Tag:noindex
X-PUBLISHED-TTL:PT1H
BEGIN:VTIMEZONE
TZID:America/Chicago
BEGIN:DAYLIGHT
TZOFFSETFROM:-0600
TZOFFSETTO:-0500
TZNAME:CDT
DTSTART:20240310T080000
END:DAYLIGHT
BEGIN:STANDARD
TZOFFSETFROM:-0500
TZOFFSETTO:-0600
TZNAME:CST
DTSTART:20241103T070000
END:STANDARD
BEGIN:DAYLIGHT
TZOFFSETFROM:-0600
TZOFFSETTO:-0500
TZNAME:CDT
DTSTART:20250309T080000
END:DAYLIGHT
BEGIN:STANDARD
TZOFFSETFROM:-0500
TZOFFSETTO:-0600
TZNAME:CST
DTSTART:20251102T070000
END:STANDARD
BEGIN:DAYLIGHT
TZOFFSETFROM:-0600
TZOFFSETTO:-0500
TZNAME:CDT
DTSTART:20260308T080000
END:DAYLIGHT
BEGIN:STANDARD
TZOFFSETFROM:-0500
TZOFFSETTO:-0600
TZNAME:CST
DTSTART:20261101T070000
END:STANDARD
END:VTIMEZONE
BEGIN:VEVENT
DTSTART;TZID=America/Chicago:20250413T130000
DTEND;TZID=America/Chicago:20250413T143000
DTSTAMP:20260421T051615
CREATED:20250401T031556Z
LAST-MODIFIED:20250409T223527Z
UID:1055-1744549200-1744554600@cafeconversationmidwest.com
SUMMARY:Parlons à Fig
DESCRIPTION:Fig is a café located inside the Luminarium building on the Omaha Riverfront. They have a limited beer and wine selection as well as coffee and a few other non-alcoholic drinks. Food is also served at this venue.\nFree parking is available in the lot beside the building. Admission to the Luminarium is not needed to enter Fig as they have a separate entrance.\nAs always\, everyone is welcome regardless of your French level. We hope to see you there!
URL:https://cafeconversationmidwest.com/event/parlons-a-fig-4/
LOCATION:Fig\, 345 Riverfront Dr\, Omaha\, Nebraska
ATTACH;FMTTYPE=image/jpeg:https://cafeconversationmidwest.com/wp-content/uploads/2025/03/FIg.jpg
END:VEVENT
BEGIN:VEVENT
DTSTART;TZID=America/Chicago:20250413T150000
DTEND;TZID=America/Chicago:20250413T163000
DTSTAMP:20260421T051615
CREATED:20250324T212004Z
LAST-MODIFIED:20250409T223517Z
UID:1048-1744556400-1744561800@cafeconversationmidwest.com
SUMMARY:Back to Basics
DESCRIPTION:Ahhh le printemps est enfin arrivé! Not only can we practice speaking French\, but we can also do it outside—weather permitting. The Mill offers a great selection of coffees\, beverages\, and snacks. We plan to hold the event outdoors\, as they have a nice outdoor heating system.\n\nBoth adults and students are welcome—everyone is looking to improve their French skills! Convenient parking is available in the lot as well as on nearby streets.\n\nÀ bientôt!
URL:https://cafeconversationmidwest.com/event/back-to-basics-6/
LOCATION:The Mill on Leavenworth\, 3105 Leavenworth\, Omaha\, NE\, 68105\, United States
ATTACH;FMTTYPE=image/jpeg:https://cafeconversationmidwest.com/wp-content/uploads/2025/03/367425021_10232771773667160_7679569742794317415_n.jpg
END:VEVENT
BEGIN:VEVENT
DTSTART;TZID=America/Chicago:20250416T180000
DTEND;TZID=America/Chicago:20250416T190000
DTSTAMP:20260421T051615
CREATED:20250324T212451Z
LAST-MODIFIED:20250409T223454Z
UID:1051-1744826400-1744830000@cafeconversationmidwest.com
SUMMARY:Parlons à Edge of the Universe
DESCRIPTION:Edge of the Universe is a themed cafe\, where the theme changes every few months. They offer new coffees and cocktails with each theme. Additionally\, they have wine\, tea\, and hot chocolate. Pastries and charcuterie can also be purchased.\n\nEdge is located on the northeast corner of 61st and Maple St. in Benson. Parking can be found in a public lot one block south on the east side of 61st St.\n\nAs always\, everyone is welcome regardless of your French level. Please join us to practice your French!
URL:https://cafeconversationmidwest.com/event/parlons-a-edge-of-the-universe-2/
LOCATION:Edge of the Universe\, 6070 Maple St\, Omaha\, NE\, 68104\, United States
ATTACH;FMTTYPE=image/jpeg:https://cafeconversationmidwest.com/wp-content/uploads/2025/03/476561130_10165013575772942_8228373793127335722_n.jpg
END:VEVENT
BEGIN:VEVENT
DTSTART;TZID=America/Chicago:20250419T100000
DTEND;TZID=America/Chicago:20250419T120000
DTSTAMP:20260421T051615
CREATED:20250401T031922Z
LAST-MODIFIED:20250409T223429Z
UID:1058-1745056800-1745064000@cafeconversationmidwest.com
SUMMARY:Café et Conversation—Sioux City
DESCRIPTION:Salut à tous!\n\nJoin us for low-key\, friendly coffee and conversation at the charming Council Oak Coffee. No matter your skill level\, we welcome you for practice or simply listening if you’re just starting out. We were all beginners at one time. This is the opportunity to pretend we’re in a bustling Parisian café sitting with friends enjoying a cozy Saturday morning.\n\nI won’t even mention weather… For those of you who have been following us\, we’ve had a couple scheduling challenges due to weather. I will add a caution about using repeating events on Facebook (Meta)… cancel one\, cancel all! :0\nÀ bientôt!
URL:https://cafeconversationmidwest.com/event/cafe-et-conversation-sioux-city-4/
LOCATION:Council Oak Coffee Roasters\, 101 W 3rd\, Sioux City\, IA\, United States
ATTACH;FMTTYPE=image/jpeg:https://cafeconversationmidwest.com/wp-content/uploads/2025/03/Sioux-City.jpg
END:VEVENT
BEGIN:VEVENT
DTSTART;TZID=America/Chicago:20250421T173000
DTEND;TZID=America/Chicago:20250421T190000
DTSTAMP:20260421T051615
CREATED:20250401T032444Z
LAST-MODIFIED:20250409T223408Z
UID:1061-1745256600-1745262000@cafeconversationmidwest.com
SUMMARY:Café et Conversation Lincoln and AFO collab
DESCRIPTION:Alliance Française-Omaha is coming to Lincoln! We’re teaming up for a first-time ever collaboration of French conversation. Light snacks will be provided. Drinks will be available for purchase. There is a small parking lot at L’s kitchen. Hope to see you there!
URL:https://cafeconversationmidwest.com/event/cafe-et-conversation-lincoln-and-afo-collab/
LOCATION:L’s Kitchen\, 2785 S 17th S\, Lincoln\, NE\, United States
ATTACH;FMTTYPE=image/jpeg:https://cafeconversationmidwest.com/wp-content/uploads/2025/03/Lincoln.jpg
END:VEVENT
BEGIN:VEVENT
DTSTART;TZID=America/Chicago:20250426T140000
DTEND;TZID=America/Chicago:20250426T153000
DTSTAMP:20260421T051615
CREATED:20250421T234916Z
LAST-MODIFIED:20250426T020204Z
UID:1072-1745676000-1745681400@cafeconversationmidwest.com
SUMMARY:Taps & Trucks
DESCRIPTION:This event will be at Trucks & Taps\, a wonderful outdoor venue with plenty of libations and eats at whatever food trucks are there. Rejoignez-nous pour la conversation! All levels welcome! À bientôt!
URL:https://cafeconversationmidwest.com/event/taps-trucks/
LOCATION:Taps & Trucks\, 5402 S 108th St\, Omaha\, NE\, 68137\, United States
ATTACH;FMTTYPE=image/jpeg:https://cafeconversationmidwest.com/wp-content/uploads/2025/04/Taps.jpg
END:VEVENT
END:VCALENDAR