BEGIN:VCALENDAR
VERSION:2.0
PRODID:-//Café et Conversation Midwest - ECPv6.15.20//NONSGML v1.0//EN
CALSCALE:GREGORIAN
METHOD:PUBLISH
X-ORIGINAL-URL:https://cafeconversationmidwest.com
X-WR-CALDESC:Events for Café et Conversation Midwest
REFRESH-INTERVAL;VALUE=DURATION:PT1H
X-Robots-Tag:noindex
X-PUBLISHED-TTL:PT1H
BEGIN:VTIMEZONE
TZID:UTC
BEGIN:STANDARD
TZOFFSETFROM:+0000
TZOFFSETTO:+0000
TZNAME:UTC
DTSTART:20240101T000000
END:STANDARD
END:VTIMEZONE
BEGIN:VEVENT
DTSTART;TZID=UTC:20250305T180000
DTEND;TZID=UTC:20250305T193000
DTSTAMP:20260421T072235
CREATED:20250220T081452Z
LAST-MODIFIED:20250220T081452Z
UID:1007-1741197600-1741203000@cafeconversationmidwest.com
SUMMARY:Parlons à Edge of the Universe
DESCRIPTION:Edge of the Universe is a themed cafe\, where the theme changes every few months. They offer new coffees and cocktails with each theme. Additionally\, they have wine\, tea\, and hot chocolate. Pastries and charcuterie can also be purchased.\nEdge is located on the northeast corner of 61st and Maple St. in Benson. Parking can be found in a public lot one block south on the east side of 61st St.\nAs always\, everyone is welcome regardless of your French level. Please join us to practice your French!
URL:https://cafeconversationmidwest.com/event/parlons-a-edge-of-the-universe/
LOCATION:Edge of the Universe\, 6070 Maple St\, Omaha\, NE\, 68104\, United States
ATTACH;FMTTYPE=image/jpeg:https://cafeconversationmidwest.com/wp-content/uploads/2025/02/476561130_10165013575772942_8228373793127335722_n.jpg
END:VEVENT
BEGIN:VEVENT
DTSTART;TZID=UTC:20250309T170000
DTEND;TZID=UTC:20250309T190000
DTSTAMP:20260421T072235
CREATED:20250220T082449Z
LAST-MODIFIED:20250220T082752Z
UID:1010-1741539600-1741546800@cafeconversationmidwest.com
SUMMARY:Parlons à Lincoln
DESCRIPTION:Please join our guest host\, Steve Scarlett\, for an evening of French conversation at the Hilton Garden Hotel in the Haymarket (street/garage parking)\n\nWe are allowed to bring in small bites to share. Drinks will be available for purchase.
URL:https://cafeconversationmidwest.com/event/parlons-a-lincoln/
LOCATION:Hilton Garden Inn\, 801 R St\, Lincoln\, NE\, United States
ATTACH;FMTTYPE=image/jpeg:https://cafeconversationmidwest.com/wp-content/uploads/2025/02/479398088_10109118843900693_6168313015276212104_n.jpg
END:VEVENT
BEGIN:VEVENT
DTSTART;TZID=UTC:20250322T100000
DTEND;TZID=UTC:20250322T120000
DTSTAMP:20260421T072235
CREATED:20250220T160136Z
LAST-MODIFIED:20250321T033820Z
UID:1014-1742637600-1742644800@cafeconversationmidwest.com
SUMMARY:Parlons à Sioux City
DESCRIPTION:Coucou! Stop by Council Oak Coffee for casual\, no pressure french conversation. You’ll find the most wonderful coffee and confection selection in an atmosphere where cozy meets chic. Come be swept away to a French café on your Saturday morning!
URL:https://cafeconversationmidwest.com/event/parlons-a-sioux-city/
LOCATION:Council Oak Coffee Roasters\, 101 W 3rd\, Sioux City\, IA\, United States
ATTACH;FMTTYPE=image/jpeg:https://cafeconversationmidwest.com/wp-content/uploads/2025/02/480228684_9443002975761071_6539073592550729946_n.jpg
END:VEVENT
BEGIN:VEVENT
DTSTART;TZID=UTC:20250322T120000
DTEND;TZID=UTC:20250322T133000
DTSTAMP:20260421T072235
CREATED:20250321T034531Z
LAST-MODIFIED:20250321T034531Z
UID:1041-1742644800-1742650200@cafeconversationmidwest.com
SUMMARY:Conversation at Karma!
DESCRIPTION:Bonjour tout le monde! We’re going to Karma Koffee for cette réunion. \nA new coffee shop for us\, but they’ve been around for several years; very popular place. The usual coffee/tea/smoothie libations plus we can bring our own wine\, etc. Yummy food items too. \nIf the weather’s warm\, they have a nice patio. Karma is in the Pepperwood Plaza\, 156th/Dodge area. (same plaza as Le Voltaire). All levels welcome\, venez rejoindre-nous!
URL:https://cafeconversationmidwest.com/event/conversation-at-karma/
LOCATION:Karma Koffee\, 587 North 155th Plaza\, Omaha\, NE
ATTACH;FMTTYPE=image/jpeg:https://cafeconversationmidwest.com/wp-content/uploads/2025/03/Karma-Koffee-Front-Counter.jpg
END:VEVENT
BEGIN:VEVENT
DTSTART;TZID=UTC:20250327T173000
DTEND;TZID=UTC:20250327T190000
DTSTAMP:20260421T072235
CREATED:20250321T035047Z
LAST-MODIFIED:20250321T035047Z
UID:1045-1743096600-1743102000@cafeconversationmidwest.com
SUMMARY:Parlons à Blue Line Coffee
DESCRIPTION:For our last March event\, we will be meeting at one of our original C&C hangouts\, Blue Line Coffee in Dundee. Blue Line sells coffee\, tea and hot chocolate as well as some pastry items. We can also bring in our own wine.\nParking can be found on Underwood Avenue and in the clinic parking lot northwest of 50th and Underwood.\n\nEveryone is welcome\, no matter if you are a beginner\, a native French speaker\, or somewhere in between. This is an all-ages venue so we especially encourage our high school and college-age members to attend!\nWe hope to see you there!
URL:https://cafeconversationmidwest.com/event/parlons-a-blue-line-coffee-2/
LOCATION:Blue Line Coffee\, 4924 Underwood Ave\, Omaha\, NE\, 68132\, United States
ATTACH;FMTTYPE=image/jpeg:https://cafeconversationmidwest.com/wp-content/uploads/2025/03/484126401_10171013849855109_1659381542779050909_n.jpg
END:VEVENT
END:VCALENDAR