BEGIN:VCALENDAR
VERSION:2.0
PRODID:-//Café et Conversation Midwest - ECPv6.15.20//NONSGML v1.0//EN
CALSCALE:GREGORIAN
METHOD:PUBLISH
X-WR-CALNAME:Café et Conversation Midwest
X-ORIGINAL-URL:https://cafeconversationmidwest.com
X-WR-CALDESC:Events for Café et Conversation Midwest
REFRESH-INTERVAL;VALUE=DURATION:PT1H
X-Robots-Tag:noindex
X-PUBLISHED-TTL:PT1H
BEGIN:VTIMEZONE
TZID:UTC
BEGIN:STANDARD
TZOFFSETFROM:+0000
TZOFFSETTO:+0000
TZNAME:UTC
DTSTART:20240101T000000
END:STANDARD
END:VTIMEZONE
BEGIN:VEVENT
DTSTART;TZID=UTC:20250104T143000
DTEND;TZID=UTC:20250104T160000
DTSTAMP:20260421T104448
CREATED:20250103T035916Z
LAST-MODIFIED:20250103T035916Z
UID:947-1736001000-1736006400@cafeconversationmidwest.com
SUMMARY:Parlons à Fig
DESCRIPTION:Fig is a café located inside the Luminarium building on the Omaha Riverfront. They have a limited beer and wine selection as well as coffee and a few other non-alcoholic drinks. Food is also served at this venue.\n\nFree parking is available in the lot beside the building. Admission to the Luminarium is not needed to enter Fig as they have a separate entrance.\nAs always\, everyone is welcome regardless of your French level. We hope to see you there!
URL:https://cafeconversationmidwest.com/event/parlons-a-fig-2/
LOCATION:Fig\, 345 Riverfront Dr\, Omaha\, Nebraska
ATTACH;FMTTYPE=image/jpeg:https://cafeconversationmidwest.com/wp-content/uploads/2025/01/461704781_10169465036530109_2445523203432849600_n.jpg
END:VEVENT
BEGIN:VEVENT
DTSTART;TZID=UTC:20250112T130000
DTEND;TZID=UTC:20250112T143000
DTSTAMP:20260421T104448
CREATED:20250103T041207Z
LAST-MODIFIED:20250103T041207Z
UID:950-1736686800-1736692200@cafeconversationmidwest.com
SUMMARY:Back to Basics
DESCRIPTION:Bonjour a tous! January starts a new year with resolutions and a new opportunity to practice speaking French. Everyone started at the same place at one time with things like “bonjour\,” “oui\,” and “merci.” Everyone makes mistakes from time to time…and maybe you worry you’ll never improve. But all it takes is practice to get better.\n\nCorkscrew Wine & Cheese has an assortment of libations and nibbles to choose from. Everyone is invited—from beginner to advanced. Mostly\, we want everyone to have fun and to be in community\, all through practicing French.
URL:https://cafeconversationmidwest.com/event/back-to-basics-4/
LOCATION:NE
ATTACH;FMTTYPE=image/jpeg:https://cafeconversationmidwest.com/wp-content/uploads/2025/01/457795500_10235363234252055_2133153464293743974_n.jpg
END:VEVENT
BEGIN:VEVENT
DTSTART;TZID=UTC:20250117T180000
DTEND;TZID=UTC:20250117T200000
DTSTAMP:20260421T104448
CREATED:20250107T072927Z
LAST-MODIFIED:20250107T072927Z
UID:953-1737136800-1737144000@cafeconversationmidwest.com
SUMMARY:C&C Lincoln—Soirée Fondue
DESCRIPTION:Come warm up around the fondue pot while enjoying casual French conversation. Thank you\, Kristen Nugent\, for opening your home for this special event! Classic cheese fondue and bread will be provided. Please bring another snack\, dessert or drink to share with the group. R.S.V.P required so we can plan to have enough fondue. \nEmail Sara Parkening to RSVP: \nesparken@gmail.com
URL:https://cafeconversationmidwest.com/event/cc-lincoln-soiree-fondue/
LOCATION:Kristen Nugent’s Home\, 9730 Balkan Ave\, Lincoln\, NE\, United States
ATTACH;FMTTYPE=image/jpeg:https://cafeconversationmidwest.com/wp-content/uploads/2025/01/472070702_10109004841357703_7109503944424600178_n.jpg
END:VEVENT
BEGIN:VEVENT
DTSTART;TZID=UTC:20250118T100000
DTEND;TZID=UTC:20250118T120000
DTSTAMP:20260421T104448
CREATED:20250114T074751Z
LAST-MODIFIED:20250114T074751Z
UID:967-1737194400-1737201600@cafeconversationmidwest.com
SUMMARY:Café et Conversation Midwest—Sioux City
DESCRIPTION:Join us for coffee\, confection and conversation!! All levels welcome. Third Saturday of each month. Hope to see you there!
URL:https://cafeconversationmidwest.com/event/cafe-et-conversation-midwest-sioux-city/
LOCATION:Council Oak Coffee Roasters\, 101 W 3rd\, Sioux City\, IA\, United States
ATTACH;FMTTYPE=image/jpeg:https://cafeconversationmidwest.com/wp-content/uploads/2025/01/472711418_9231302260264478_7420414698670415833_n.jpg
END:VEVENT
BEGIN:VEVENT
DTSTART;TZID=UTC:20250118T140000
DTEND;TZID=UTC:20250118T160000
DTSTAMP:20260421T104448
CREATED:20250103T042522Z
LAST-MODIFIED:20250103T042522Z
UID:956-1737208800-1737216000@cafeconversationmidwest.com
SUMMARY:Old Market—Explorer des Galeries
DESCRIPTION:Craving a taste of the bohemian area of Paris—Montmartre? Come explore a few art galleries in Omaha’s Old Market—all while practicing your French. All locations include free admission!\n\nWe’ll visit the following locations:\n\n2pm-2:40pmArtists Cooperative Gallery405 S 11th St\, Omaha\,Omaha\n\n2:50-3:30pmGarden of the Zodiac (The gallery indoors)Upper level of The Passageway1042 Howard St\, Omaha\n\n3:40-?TBD. Centi Gelato\, Crepes\, and Coffee? La Buvette?\nAll stops within close proximity. Hope to see you there!
URL:https://cafeconversationmidwest.com/event/old-market-explorer-des-galeries/
LOCATION:NE
ATTACH;FMTTYPE=image/webp:https://cafeconversationmidwest.com/wp-content/uploads/2025/01/il_fullxfull.1144655937_5z3g.jpg.webp
END:VEVENT
BEGIN:VEVENT
DTSTART;TZID=UTC:20250126T100000
DTEND;TZID=UTC:20250126T113000
DTSTAMP:20260421T104448
CREATED:20250122T235816Z
LAST-MODIFIED:20250123T000121Z
UID:971-1737885600-1737891000@cafeconversationmidwest.com
SUMMARY:Parlons à Myrtle & Cypress (Omaha Conservatory of Music)
DESCRIPTION:Bonjour à tous! C&C will be returning to the Omaha Conservatory of Music location of Myrtle & Cypress.\n\nMyrtle & Cypress serves coffee\, tea and a few pastries.\n\nParking is available in the Omaha Conservatory of Music lot.\n\n\nEveryone is welcome and encouraged to come\, no matter if you are a beginner\, a native French speaker\, or somewhere in between. Hope to see you there!
URL:https://cafeconversationmidwest.com/event/parlons-a-myrtle-cypress-omaha-conservatory-of-music-2/
LOCATION:Omaha Conservatory of Omaha\, 7023 Cass St\, Omaha\, NE\, 68132\, United States
ATTACH;FMTTYPE=image/jpeg:https://cafeconversationmidwest.com/wp-content/uploads/2025/01/474460155_10170736360685109_8948450555636051550_n.jpg
END:VEVENT
BEGIN:VEVENT
DTSTART;TZID=UTC:20250130T183000
DTEND;TZID=UTC:20250130T200000
DTSTAMP:20260421T104448
CREATED:20250103T044033Z
LAST-MODIFIED:20250130T053414Z
UID:959-1738261800-1738267200@cafeconversationmidwest.com
SUMMARY:Parlons à Barroco Bar and Wine
DESCRIPTION:Bonjour tout le monde. Let’s meet at the Barroco Wine Bar. They not only have a full bar menu\, but delicious nibbles\, too! As always\, all levels welcome; venez nous rejoindre. À bientôt!
URL:https://cafeconversationmidwest.com/event/parlons-a-barroco-bar-and-wine/
LOCATION:Barroco Wine Bar\, 2935 S 108th St\, Omaha\, NE\, 68144\, United States
ATTACH;FMTTYPE=image/jpeg:https://cafeconversationmidwest.com/wp-content/uploads/2025/01/465670213_1015566173706211_4292250702696657254_n.jpg
END:VEVENT
END:VCALENDAR