BEGIN:VCALENDAR
VERSION:2.0
PRODID:-//Café et Conversation Midwest - ECPv6.15.20//NONSGML v1.0//EN
CALSCALE:GREGORIAN
METHOD:PUBLISH
X-ORIGINAL-URL:https://cafeconversationmidwest.com
X-WR-CALDESC:Events for Café et Conversation Midwest
REFRESH-INTERVAL;VALUE=DURATION:PT1H
X-Robots-Tag:noindex
X-PUBLISHED-TTL:PT1H
BEGIN:VTIMEZONE
TZID:UTC
BEGIN:STANDARD
TZOFFSETFROM:+0000
TZOFFSETTO:+0000
TZNAME:UTC
DTSTART:20230101T000000
END:STANDARD
END:VTIMEZONE
BEGIN:VEVENT
DTSTART;TZID=UTC:20241006T130000
DTEND;TZID=UTC:20241006T143000
DTSTAMP:20260421T153007
CREATED:20240930T040222Z
LAST-MODIFIED:20240930T040222Z
UID:857-1728219600-1728225000@cafeconversationmidwest.com
SUMMARY:Parlons à Fig
DESCRIPTION:Fig is a café located inside the Luminarium building on the Omaha Riverfront. They have a limited beer and wine selection as well as coffee and a few other non-alcoholic drinks. Food is also served at this venue.\n\nWeather permitting\, we will meet outside on their patio. Free parking is available in the lot beside the building. Admission to the Luminarium is not needed to enter Fig as they have a separate entrance.\n\nAs always\, everyone is welcome regardless of your French level. We hope to see you there!
URL:https://cafeconversationmidwest.com/event/parlons-a-fig/
LOCATION:Fig\, 345 Riverfront Dr\, Omaha\, Nebraska
ATTACH;FMTTYPE=image/jpeg:https://cafeconversationmidwest.com/wp-content/uploads/2024/09/461704781_10169465036530109_2445523203432849600_n.jpg
END:VEVENT
BEGIN:VEVENT
DTSTART;TZID=UTC:20241013T150000
DTEND;TZID=UTC:20241013T163000
DTSTAMP:20260421T153007
CREATED:20240930T040158Z
LAST-MODIFIED:20240930T040158Z
UID:853-1728831600-1728837000@cafeconversationmidwest.com
SUMMARY:Back to Basics
DESCRIPTION:The Mill on Leavenworth has an assortment of coffee drinks as well as wine and a variety of other adult beverages. All levels of language learners are welcome although we’re especially catering to those early in their French journey!\nAnd if you’re an advanced or native speaker? Please stop by to help out those who are just starting out.\n\nEither way\, we’ll have fun.\n\nAnd with it being mid-October there’s sure to be a crispness in the air\, just cool enough to imagine sipping on a delightful Parisian hot chocolate. And if it’s especially chilly? Not to worry as the patio has plenty of outdoor heating including fire pits.\n\nFeel free to bring your questions and any concerns you may have learning the language.\nHope to see you there!
URL:https://cafeconversationmidwest.com/event/back-to-basics/
LOCATION:The Mill on Leavenworth\, 3105 Leavenworth\, Omaha\, NE\, 68105\, United States
ATTACH;FMTTYPE=image/jpeg:https://cafeconversationmidwest.com/wp-content/uploads/2024/09/367425021_10232771773667160_7679569742794317415_n.jpg
END:VEVENT
BEGIN:VEVENT
DTSTART;TZID=UTC:20241019T093000
DTEND;TZID=UTC:20241019T110000
DTSTAMP:20260421T153007
CREATED:20240930T074831Z
LAST-MODIFIED:20240930T074831Z
UID:864-1729330200-1729335600@cafeconversationmidwest.com
SUMMARY:C&C—Lincoln
DESCRIPTION:We are trying something a bit different this October. We will meet for coffee and bagels at Cooper and Co. Home and Gift. They have a delightful outdoor space between their two stores and they have agreed to let us hold our event there. Dress accordingly.\n\nI will plan to bring the coffee and bagels. I am looking for volunteers who could bring napkins\, plates and plasticware\, juice\, and cups. If anyone else wants to bring some fruit or other pastries\, that would be more than welcome too!\n\nPlease RSVP by going to the event on Facebook and click “going” or email esparken@gmail.com so we are sure to have enough food and drink!\n\nNot yet a member on Facebook? Join here.
URL:https://cafeconversationmidwest.com/event/cc-lincoln/
LOCATION:Cooper & Co. Home + Gift\, 2211 Winthrop Road\, Lincoln\, NE\, United States
ATTACH;FMTTYPE=image/jpeg:https://cafeconversationmidwest.com/wp-content/uploads/2024/09/461257565_10108431345408183_1779989638023644859_n.jpg
END:VEVENT
BEGIN:VEVENT
DTSTART;TZID=UTC:20241019T100000
DTEND;TZID=UTC:20241019T120000
DTSTAMP:20260421T153007
CREATED:20241014T053606Z
LAST-MODIFIED:20241014T053606Z
UID:888-1729332000-1729339200@cafeconversationmidwest.com
SUMMARY:Café et Conversation Sioux City
DESCRIPTION:There’s nothing like a historic building filled with the rich aroma of roasting coffee to put one in the mood for friends and conversation!\n\nPlease note the earlier time – 10:00 am\n\nJoin the Café et Conversation – Sioux City team at Council Oak Coffee Roasters for a morning session of French conversation. Council Oak Coffee Roasters is a completely restored 100-year-old building on a hill overlooking downtown Sioux City. While you sip and conjugate\, you can imagine that the busy street below is in a bustling village in the south of France – or the heart of Paris.\n\n\nAll skill levels are welcome. Everyone started somewhere\, so if you’re a beginner we welcome you. If you’re somewhere beyond – even advanced\, this is the place to get your French fix.
URL:https://cafeconversationmidwest.com/event/cafe-et-conversation-sioux-city-2/
LOCATION:Council Oak Coffee Roasters\, 101 W 3rd\, Sioux City\, IA\, United States
ATTACH;FMTTYPE=image/jpeg:https://cafeconversationmidwest.com/wp-content/uploads/2024/10/462293264_8659260314135345_6088439098321503293_n-1.jpg
END:VEVENT
BEGIN:VEVENT
DTSTART;TZID=UTC:20241020T100000
DTEND;TZID=UTC:20241020T113000
DTSTAMP:20260421T153007
CREATED:20240930T040141Z
LAST-MODIFIED:20241014T053032Z
UID:860-1729418400-1729423800@cafeconversationmidwest.com
SUMMARY:Parler au Musée
DESCRIPTION:Have you been dreaming of strolling through The Louvre or the Musée d’Orsay? How about coming to Omaha’s newly-remodeled Joslyn Art Museum where you can practice French all the while taking in the art or sipping on a café—either indoors or on their terrace?\n\nAnd hey\, why not use this as an opportunity to “brush” up on your art vocabulary in French?\n\nOh\, and did you know it’s completely free?\n\nHope to see you then!
URL:https://cafeconversationmidwest.com/event/parler-au-musee/
LOCATION:Joslyn Art Museum\, 2200 Dodge St.\, NE\, 68102\, United States
ATTACH;FMTTYPE=image/jpeg:https://cafeconversationmidwest.com/wp-content/uploads/2024/09/461075800_10235612340439554_578326851716044860_n.jpg
END:VEVENT
BEGIN:VEVENT
DTSTART;TZID=UTC:20241024T173000
DTEND;TZID=UTC:20241024T190000
DTSTAMP:20260421T153007
CREATED:20241019T063556Z
LAST-MODIFIED:20241019T064043Z
UID:898-1729791000-1729796400@cafeconversationmidwest.com
SUMMARY:Café et Conversation Midwest @ Trucks and Taps
DESCRIPTION:Rebonjour tout le monde! This event will be at Trucks & Taps\, a wonderful outdoor venue with plenty of libations and eats at whatever food trucks are there. Rejoindre-nous pour la conversation! All levels welcome! À bientôt!  Et Oui! They have heat lamps! \nPlease RSVP by going to the event on Facebook. \nNot yet a member on Facebook? Join here.
URL:https://cafeconversationmidwest.com/event/cafe-et-conversation-midwest-trucks-and-taps/
LOCATION:Taps & Trucks\, 5402 S 108th St\, Omaha\, NE\, 68137\, United States
ATTACH;FMTTYPE=image/jpeg:https://cafeconversationmidwest.com/wp-content/uploads/2024/07/553b4f_253bb10969f1411c9978a4028f4b0824mv2.jpg
END:VEVENT
BEGIN:VEVENT
DTSTART;TZID=UTC:20241026T173000
DTEND;TZID=UTC:20241026T190000
DTSTAMP:20260421T153007
CREATED:20241019T063954Z
LAST-MODIFIED:20241019T063954Z
UID:900-1729963800-1729969200@cafeconversationmidwest.com
SUMMARY:Café et Conversation Midwest at Cellar 44
DESCRIPTION:Bonjour tout le monde! We so enjoyed our recent meetup at Cellar 44 that we’re returning in November! Plenty of the usual libations + nice appetizers and charcuteries. Comme d’habitude\, all levels welcome. Venez nous rejoindre! \nPlease RSVP by going to the event on Facebook. \nNot yet a member on Facebook? Join here.
URL:https://cafeconversationmidwest.com/event/cafe-et-conversation-midwest-at-cellar-44/
LOCATION:Cellar 44\, 2835 South 170th Plaza\, Omaha\, NE\, 68130\, United States
ATTACH;FMTTYPE=image/jpeg:https://cafeconversationmidwest.com/wp-content/uploads/2024/09/456790845_10230547866074759_3748818922041364915_n.jpg
END:VEVENT
END:VCALENDAR