BEGIN:VCALENDAR
VERSION:2.0
PRODID:-//Café et Conversation Midwest - ECPv6.15.20//NONSGML v1.0//EN
CALSCALE:GREGORIAN
METHOD:PUBLISH
X-WR-CALNAME:Café et Conversation Midwest
X-ORIGINAL-URL:https://cafeconversationmidwest.com
X-WR-CALDESC:Events for Café et Conversation Midwest
REFRESH-INTERVAL;VALUE=DURATION:PT1H
X-Robots-Tag:noindex
X-PUBLISHED-TTL:PT1H
BEGIN:VTIMEZONE
TZID:UTC
BEGIN:STANDARD
TZOFFSETFROM:+0000
TZOFFSETTO:+0000
TZNAME:UTC
DTSTART:20230101T000000
END:STANDARD
END:VTIMEZONE
BEGIN:VEVENT
DTSTART;TZID=UTC:20240905T173000
DTEND;TZID=UTC:20240905T190000
DTSTAMP:20260421T170926
CREATED:20240828T031720Z
LAST-MODIFIED:20240828T031720Z
UID:812-1725557400-1725562800@cafeconversationmidwest.com
SUMMARY:Parlons au Mill on Leavenworth
DESCRIPTION:For our first September event\, C&C will return to The Mill. They offer both non-alcoholic and alcoholic drink options including coffee\, tea\, hot chocolate\, wine and cocktails as well as some food.\n\nWe will be meeting out on their spacious patio\, weather permitting. Parking is available alongside the building\, in the parking lot behind the building as well as on Leavenworth Street.\n\nAs always\, everyone is welcome\, regardless of your French level. We hope to see you there!
URL:https://cafeconversationmidwest.com/event/parlons-au-mill-on-leavenworth/
LOCATION:The Mill\, Leavenworth
ATTACH;FMTTYPE=image/jpeg:https://cafeconversationmidwest.com/wp-content/uploads/2024/08/457278640_10169264201260109_6154645429184833687_n-1.jpg
END:VEVENT
BEGIN:VEVENT
DTSTART;TZID=UTC:20240906T180000
DTEND;TZID=UTC:20240906T193000
DTSTAMP:20260421T170926
CREATED:20240904T014717Z
LAST-MODIFIED:20240904T014717Z
UID:830-1725645600-1725651000@cafeconversationmidwest.com
SUMMARY:C&C Lincoln (a.k.a. Apéro Lincoln) à Wax Buffalo
DESCRIPTION:Come check out our first official C&C Lincoln event!\n\nWax Buffalo (48th and Prescott-Lincoln) has graciously agreed to welcome our group! Wax Buffalo is a local candle shop and small bar. They have wine and cocktails by the glass. Your host\, Sara\, will bring a snack board.\n\nFeel free to bring a snack to share if desired.\n\nAll levels of French proficiency welcome!
URL:https://cafeconversationmidwest.com/event/cc-lincoln-a-k-a-apero-lincoln-a-wax-buffalo/
LOCATION:Wax Buffalo\, 4723 Prescott\, Lincoln\, NE\, United States
ATTACH;FMTTYPE=image/jpeg:https://cafeconversationmidwest.com/wp-content/uploads/2024/09/IMG_2847.jpg
END:VEVENT
BEGIN:VEVENT
DTSTART;TZID=UTC:20240915T133000
DTEND;TZID=UTC:20240915T150000
DTSTAMP:20260421T170926
CREATED:20240828T032852Z
LAST-MODIFIED:20240828T032852Z
UID:816-1726407000-1726412400@cafeconversationmidwest.com
SUMMARY:Back 2 Basics
DESCRIPTION:Imagine you’ve just finished a lovely stroll thru the Latin Quarter in Paris. Walking down this interesting lane you spot this quaint wine bar. You decide to stop in for a drink and you start a wonderful conversation with a young Parisian couple. \nThat day is September 15 and the wine bar is Barroco Wine Bar located at 2935 S.108th. St. Omaha\, Nebraska. \nThey serve an appetizer assortment and a wide selection of wines and cocktails. All levels of French speakers are welcome and we look forward to seeing everyone. Ciao!
URL:https://cafeconversationmidwest.com/event/back-2-basics-3/
LOCATION:Barroco Wine Bar\, 2935 S 108th St\, Omaha\, NE\, 68144\, United States
ATTACH;FMTTYPE=image/jpeg:https://cafeconversationmidwest.com/wp-content/uploads/2024/08/full.jpeg
END:VEVENT
BEGIN:VEVENT
DTSTART;TZID=UTC:20240918T180000
DTEND;TZID=UTC:20240918T193000
DTSTAMP:20260421T170926
CREATED:20240828T034205Z
LAST-MODIFIED:20240828T034205Z
UID:825-1726682400-1726687800@cafeconversationmidwest.com
SUMMARY:Jardin Bohème
DESCRIPTION:Why not come immerse yourself in a little French all the while surrounded by a beautiful setting?\nNot to mention there’s delicious pizza from Via Farina and a full bar. If you haven’t yet been to Omaha’s Bohemian Gardens this is your chance to check it out!\n\nAnd okay\, while it may not be Montmartre or the Latin Quarter of Paris\, it’s still the perfect spot to get your French on. And to grab a bite and a drink.\n\nFree street parking.\n\n*In the event of rain we’ll meet across the street at iDLE Wine and/Lumen Brewery.
URL:https://cafeconversationmidwest.com/event/jardin-boheme/
LOCATION:The Bohemian Gardens\, 1424 S 13th St.\, Omaha\, NE\, 68108\, United States
ATTACH;FMTTYPE=image/jpeg:https://cafeconversationmidwest.com/wp-content/uploads/2024/08/IMG_5096_9392B871-B15B-0642-9D46BC9BD234E3BB-9392a9f89b94f33_9392e47e-b484-03db-16bdc44eae6f4098-1.jpg
END:VEVENT
BEGIN:VEVENT
DTSTART;TZID=UTC:20240921T120000
DTEND;TZID=UTC:20240921T140000
DTSTAMP:20260421T170926
CREATED:20240828T033154Z
LAST-MODIFIED:20240828T033950Z
UID:821-1726920000-1726927200@cafeconversationmidwest.com
SUMMARY:Café et Conversation—Sioux City
DESCRIPTION:Relax with us in a cozy\, casual brewery. Right in the heart of our own charming downtown “quartier” in Sioux City.\n\nBeginners to native speakers welcome. Discover delicious linguistics as we mix accents\, phrases and savor the pleasures of the French language like a good wine.
URL:https://cafeconversationmidwest.com/event/cafe-et-conversation-sioux-city/
LOCATION:Jackson Street Brewery\, 607 Fifth St.\, Sioux City\, IA
ATTACH;FMTTYPE=image/jpeg:https://cafeconversationmidwest.com/wp-content/uploads/2024/08/457093834_8325393657522014_3243717806494109610_n.jpg
END:VEVENT
BEGIN:VEVENT
DTSTART;TZID=UTC:20240925T173000
DTEND;TZID=UTC:20240925T190000
DTSTAMP:20260421T170926
CREATED:20240923T202033Z
LAST-MODIFIED:20240923T202033Z
UID:848-1727285400-1727290800@cafeconversationmidwest.com
SUMMARY:A New Location—C&C at Cellar 44!
DESCRIPTION:Yay! We’re meeting at a new place for this event: Cellar 44 in The Shops of Legacy in West O. Plenty of the usual libations plus nice appetizers and charcuteries. \nComme d’habitude\, all levels welcome. Venez nous rejoindre!
URL:https://cafeconversationmidwest.com/event/a-new-location-cc-at-cellar-44/
LOCATION:Cellar 44\, 2835 South 170th Plaza\, Omaha\, NE\, 68130\, United States
ATTACH;FMTTYPE=image/jpeg:https://cafeconversationmidwest.com/wp-content/uploads/2024/09/456790845_10230547866074759_3748818922041364915_n.jpg
END:VEVENT
END:VCALENDAR