BEGIN:VCALENDAR
VERSION:2.0
PRODID:-//Café et Conversation Midwest - ECPv6.15.20//NONSGML v1.0//EN
CALSCALE:GREGORIAN
METHOD:PUBLISH
X-ORIGINAL-URL:https://cafeconversationmidwest.com
X-WR-CALDESC:Events for Café et Conversation Midwest
REFRESH-INTERVAL;VALUE=DURATION:PT1H
X-Robots-Tag:noindex
X-PUBLISHED-TTL:PT1H
BEGIN:VTIMEZONE
TZID:UTC
BEGIN:STANDARD
TZOFFSETFROM:+0000
TZOFFSETTO:+0000
TZNAME:UTC
DTSTART:20230101T000000
END:STANDARD
END:VTIMEZONE
BEGIN:VEVENT
DTSTART;TZID=UTC:20240706T103000
DTEND;TZID=UTC:20240706T120000
DTSTAMP:20260421T203909
CREATED:20240629T172659Z
LAST-MODIFIED:20240629T173306Z
UID:718-1720261800-1720267200@cafeconversationmidwest.com
SUMMARY:Parlons à Myrtle & Cypress (Omaha Conservatory of Music)
DESCRIPTION:For our first event in July\, C&C will be meeting at the Omaha Conservatory of Music location of Myrtle & Cypress!\n\nWe have met a few times at this location when it was the Gig. And while the Gig closed a few months ago\, Myrtle & Cypress—whose original location is a popular café in Gifford Park—opened in its place. So we’re excited to check it out!\n\nMyrtle & Cypress serves\, coffee\, tea and some tasty pastries.\n\nParking is available in the Omaha Conservatory of Music lot.\n\nEveryone is welcome and encouraged to come\, no matter if you are a beginner\, a native French speaker\, or somewhere in between. Hope to see you there!
URL:https://cafeconversationmidwest.com/event/parlons-a-myrtle-cypress-omaha-conservatory-of-music/
LOCATION:Omaha Conservatory of Omaha\, 7023 Cass St\, Omaha\, NE\, 68132\, United States
ATTACH;FMTTYPE=image/jpeg:https://cafeconversationmidwest.com/wp-content/uploads/2024/06/1714168828103.jpeg
END:VEVENT
BEGIN:VEVENT
DTSTART;TZID=UTC:20240714T140000
DTEND;TZID=UTC:20240714T153000
DTSTAMP:20260421T203909
CREATED:20240629T174615Z
LAST-MODIFIED:20240629T174615Z
UID:724-1720965600-1720971000@cafeconversationmidwest.com
SUMMARY:Celebrate Bastille Day with Back to Basics
DESCRIPTION:It’s Bastille Day and what better way to celebrate than by practicing and improving your French? Oh\, and telling us about your favorite culinary delight? \nIf you’re just starting out in French—or if you’re wanting to improve on what you already know—prepare a few sentences in French that’s all about your favorite meal. Tell us what your favorite dish is\, the basic ingredients\, and how it’s made\, en français\, bien sûr. Reading from notes is just fine. And if you don’t have a favorite meal\, then Ham & Eggs will do!
URL:https://cafeconversationmidwest.com/event/celebrate-bastille-day-with-back-to-basics/
LOCATION:Corkscrew Rockbrook\, 10924 Prairie Brook Rd\, Omaha\, NE\, 68144\, United States
ATTACH;FMTTYPE=image/jpeg:https://cafeconversationmidwest.com/wp-content/uploads/2024/06/RockbrookFront.jpg
END:VEVENT
BEGIN:VEVENT
DTSTART;TZID=UTC:20240716T163000
DTEND;TZID=UTC:20240716T183000
DTSTAMP:20260421T203909
CREATED:20240713T213504Z
LAST-MODIFIED:20240713T213504Z
UID:763-1721147400-1721154600@cafeconversationmidwest.com
SUMMARY:Debut Event in Chicago!
DESCRIPTION:Café et Converstaion will be hosting our first ever event in the Windy City! C&C member Ryan Foehlinger will be in Chicago on Tuesday\, July 16th\, and thought “why not try hosting an event!”\n\nThis event will be taking place Tuesday\, July 16th\, at 4:30 at Venteux Brasserie at 224 N Michigan Ave in downtown Chicago\, where the happy hour menu offers reasonable food and beverage options.\n\nCafe et conversation (out of Omaha\, NE) offers a casual\, low-key\, and non-judgemental weekly meet-up to practice your French. All levels welcome!\n\nI (Ryan) am super excited about the idea of hosting an event in a different city! Omaha folks- if you know anyone in Chicago who might be interested\, let them know! Chicagoans – bring a friend\, spread the word\, and I hope to see you there!
URL:https://cafeconversationmidwest.com/event/debut-event-in-chicago/
LOCATION:Cafe Venteux\, 224 N Michigan Ave\, Chicago\, IL\, United States
ATTACH;FMTTYPE=image/jpeg:https://cafeconversationmidwest.com/wp-content/uploads/2024/07/cafeventeux_14-1200.jpg
END:VEVENT
BEGIN:VEVENT
DTSTART;TZID=UTC:20240719T173000
DTEND;TZID=UTC:20240719T190000
DTSTAMP:20260421T203909
CREATED:20240710T031812Z
LAST-MODIFIED:20240710T031812Z
UID:749-1721410200-1721415600@cafeconversationmidwest.com
SUMMARY:Trucks & Taps
DESCRIPTION:Rebonjour tout le monde! This event will be at Trucks & Taps\, a wonderful outdoor venue with plenty of libations and eats at whatever food trucks are there. Rejoindre-nous pour la conversation! All levels welcome! À bientôt!
URL:https://cafeconversationmidwest.com/event/trucks-taps/
LOCATION:Taps & Trucks\, 5402 S 108th St\, Omaha\, NE\, 68137\, United States
ATTACH;FMTTYPE=image/jpeg:https://cafeconversationmidwest.com/wp-content/uploads/2024/07/553b4f_253bb10969f1411c9978a4028f4b0824mv2.jpg
END:VEVENT
BEGIN:VEVENT
DTSTART;TZID=UTC:20240720T120000
DTEND;TZID=UTC:20240720T140000
DTSTAMP:20260421T203909
CREATED:20240605T041219Z
LAST-MODIFIED:20240605T041328Z
UID:632-1721476800-1721484000@cafeconversationmidwest.com
SUMMARY:Jackson Street Brewery—Sioux City
DESCRIPTION:Drumroll\, please! Come join us for our debut event in Sioux City! \nIf you\, or anyone you know\, in the Sioux City area are wanting to practice French or are just getting started on your French learning journey\, this free event is for you! And…if you’re from Omaha or the Council Bluffs area…it’s just a short 90 minutes to Sioux City. \nCome join us for a bite and a brew—or perhaps a soft drink at one of Sioux City’s premiere brew pubs. All ages welcome! \nHope to see you! \n 
URL:https://cafeconversationmidwest.com/event/jackson-street-brewery-sioux-city/
LOCATION:Jackson Street Brewery\, 607 Fifth St.\, Sioux City\, IA
END:VEVENT
BEGIN:VEVENT
DTSTART;TZID=UTC:20240721T120000
DTEND;TZID=UTC:20240721T150000
DTSTAMP:20260421T203909
CREATED:20240605T040250Z
LAST-MODIFIED:20240605T040422Z
UID:626-1721563200-1721574000@cafeconversationmidwest.com
SUMMARY:Bastille Day with Alliance Française Omaha
DESCRIPTION:Alliance Française Omaha has reserved Omaha’s Elmwood Park Pavilion for their annual family-friendly picnic and celebration of the French National Holiday.\n\nWe encourage our C&C members to attend this event as it is open to everyone\, both AFO members and non-members alike.\n\nRegistration required. Go here for more info: https://www.afomaha.org/upcoming-events/bastille-day-picnic-2024
URL:https://cafeconversationmidwest.com/event/bastille-day-with-alliance-francaise-omaha/
LOCATION:Elmwood Park\, 802 S. 60tth St.\, Omaha\, NE
END:VEVENT
BEGIN:VEVENT
DTSTART;TZID=UTC:20240727T140000
DTEND;TZID=UTC:20240727T160000
DTSTAMP:20260421T203909
CREATED:20240710T032421Z
LAST-MODIFIED:20240710T032421Z
UID:756-1722088800-1722096000@cafeconversationmidwest.com
SUMMARY:Explorer Little Bo
DESCRIPTION:Craving a taste of the bohemian area of Paris—Montmartre? Come explore Little Bo along 13th Street in Omaha\, all the while practicing your French! We’ll stop by for a coffee\, take in a super cool gift shop\, and land at one of the coolest new wine shops in Paris—er\, we mean\, OMAHA. \n\nWe’ll visit three locations as follows:\n2pm-2:30pmArchetype Coffee1419 S 13th StOmaha\n\n2:40-3pmDusk Goods & Gifts1234 13th St. Suite 202Omaha\n\n3:10-?iDLE Wine & Goods/Lumen Beer1433 S. 13th St.Omaha\n\nIf you’ve been to iDLE you know how great it is—the owner\, Ivy\, is doing a great job finding interesting wines and snacks—including many wonderful French and other European wines. iDLE feels like one of those super local wine shops you might discover in Paris—where you won’t find any tourists.\n\nAdditionally\, if you’re into beer\, Lumen may be some of the best locally brewed beer going right now. You can easily move between both shops as they share a common hallway and you can easily bring beer into the wine shop and vice versa.\n\nAll three stops are within close proximity. However\, if you’re not up for walking\, simply meet us at one of the stops according the above schedule.\nHope to see you there!
URL:https://cafeconversationmidwest.com/event/explorer-little-bo/
LOCATION:Little Bohemia\, 1433 S 13th St\, Omaha\, NE\, 68108\, United States
ATTACH;FMTTYPE=image/jpeg:https://cafeconversationmidwest.com/wp-content/uploads/2024/07/449026507_10234637133819998_2437262742619055667_n.jpg
END:VEVENT
BEGIN:VEVENT
DTSTART;TZID=UTC:20240731T173000
DTEND;TZID=UTC:20240731T190000
DTSTAMP:20260421T203909
CREATED:20240720T171650Z
LAST-MODIFIED:20240720T171650Z
UID:770-1722447000-1722452400@cafeconversationmidwest.com
SUMMARY:Parlons à Blue Line Coffee
DESCRIPTION:For our last event in July\, we will be meeting at one of our original C&C hangouts\, Blue Line Coffee in Dundee. Blue Line sells coffee\, tea and hot chocolate as well as some pastry items. We can also bring in our own wine. One of their baristas may be making some French food for us\, as well. I will update when I know more.\n\nParking can be found on Underwood Avenue and in the clinic parking lot northwest of 50th and Underwood.\n\nEveryone is welcome\, no matter if you are a beginner\, a native French speaker\, or somewhere in between. We hope to see you there!
URL:https://cafeconversationmidwest.com/event/parlons-a-blue-line-coffee/
LOCATION:Blue Line Coffee\, 4924 Underwood Ave\, Omaha\, NE\, 68132\, United States
ATTACH;FMTTYPE=image/jpeg:https://cafeconversationmidwest.com/wp-content/uploads/2024/07/blue-line-dundee.jpg
END:VEVENT
END:VCALENDAR