BEGIN:VCALENDAR
VERSION:2.0
PRODID:-//Café et Conversation Midwest - ECPv6.15.20//NONSGML v1.0//EN
CALSCALE:GREGORIAN
METHOD:PUBLISH
X-WR-CALNAME:Café et Conversation Midwest
X-ORIGINAL-URL:https://cafeconversationmidwest.com
X-WR-CALDESC:Events for Café et Conversation Midwest
REFRESH-INTERVAL;VALUE=DURATION:PT1H
X-Robots-Tag:noindex
X-PUBLISHED-TTL:PT1H
BEGIN:VTIMEZONE
TZID:UTC
BEGIN:STANDARD
TZOFFSETFROM:+0000
TZOFFSETTO:+0000
TZNAME:UTC
DTSTART:20230101T000000
END:STANDARD
END:VTIMEZONE
BEGIN:VEVENT
DTSTART;TZID=UTC:20240615T130000
DTEND;TZID=UTC:20240615T143000
DTSTAMP:20260421T195105
CREATED:20240529T051642Z
LAST-MODIFIED:20240615T011058Z
UID:592-1718456400-1718461800@cafeconversationmidwest.com
SUMMARY:Back 2 Basics
DESCRIPTION:***CHANGE OF VENUE***\n\nDue to the proximity of Fig (the original location) to the College World Series we’ve decided to save you the hassles of dealing with traffic. So for this time around\, we’ll be meeting at The Mill on Leavenworth. Which is equally as lovely!\nIf you’re new to French or wanting to improve\, this is the meetup for you. And\, if you’re advanced or a native speakers\, we’d love for you to come share your expertise. After all\, this group\, at its core\, is based on kindness and community. And\, of course\, a love of the French language.\nIf need be\, prepare ahead–you can even write down what you plan on talking about. Practice introducing yourself and telling us what your plans are for summer.\n\n\n1pm-2:15pm\nSaturday\, June 15\nThe Mill on Leavenworth\n31st and Leavenworth\nOmaha
URL:https://cafeconversationmidwest.com/event/back-2-basics/
LOCATION:The Mill\, Leavenworth
ATTACH;FMTTYPE=image/jpeg:https://cafeconversationmidwest.com/wp-content/uploads/2024/05/IMG_1348.jpg
END:VEVENT
BEGIN:VEVENT
DTSTART;TZID=UTC:20240607T173000
DTEND;TZID=UTC:20240607T190000
DTSTAMP:20260421T195105
CREATED:20240529T043842Z
LAST-MODIFIED:20240531T011538Z
UID:581-1717781400-1717786800@cafeconversationmidwest.com
SUMMARY:Parlons à PACE
DESCRIPTION:Pottawattamie Arts Culture Entertainment (PACE) in Council Bluffs has a full bar. They don’t sell food\, but you can order delivery from nearby restaurants. \nEvery Friday there is an open house where you can explore all four floors of the building\, including the artists’ studios and the current exhibit\, PACE New Masters 2024. \nWeather permitting\, we will be sitting out on their spacious patio\, which can be reached from the bar area. \nFree parking is plentiful in the lots next to the building as well as on the street. \nEveryone is welcome\, no matter if you are a beginner\, a native French speaker\, or somewhere in between. \nHope to see you there!
URL:https://cafeconversationmidwest.com/event/parlons-a-pace/
LOCATION:Pottawattamie Arts\, Culture\, and Entertainment\, 1001 S 6th St\, Council Bluffs\, Iowa
END:VEVENT
BEGIN:VEVENT
DTSTART;TZID=UTC:20240421T080000
DTEND;TZID=UTC:20240421T170000
DTSTAMP:20260421T195105
CREATED:20240419T060902Z
LAST-MODIFIED:20240419T060902Z
UID:237-1713686400-1713718800@cafeconversationmidwest.com
SUMMARY:C&C test
DESCRIPTION:info \n 
URL:https://cafeconversationmidwest.com/event/cc-test/
LOCATION:The Mill\, Leavenworth
END:VEVENT
END:VCALENDAR