BEGIN:VCALENDAR
VERSION:2.0
PRODID:-//Café et Conversation Midwest - ECPv6.15.20//NONSGML v1.0//EN
CALSCALE:GREGORIAN
METHOD:PUBLISH
X-WR-CALNAME:Café et Conversation Midwest
X-ORIGINAL-URL:https://cafeconversationmidwest.com
X-WR-CALDESC:Events for Café et Conversation Midwest
REFRESH-INTERVAL;VALUE=DURATION:PT1H
X-Robots-Tag:noindex
X-PUBLISHED-TTL:PT1H
BEGIN:VTIMEZONE
TZID:America/Chicago
BEGIN:DAYLIGHT
TZOFFSETFROM:-0600
TZOFFSETTO:-0500
TZNAME:CDT
DTSTART:20250309T080000
END:DAYLIGHT
BEGIN:STANDARD
TZOFFSETFROM:-0500
TZOFFSETTO:-0600
TZNAME:CST
DTSTART:20251102T070000
END:STANDARD
BEGIN:DAYLIGHT
TZOFFSETFROM:-0600
TZOFFSETTO:-0500
TZNAME:CDT
DTSTART:20260308T080000
END:DAYLIGHT
BEGIN:STANDARD
TZOFFSETFROM:-0500
TZOFFSETTO:-0600
TZNAME:CST
DTSTART:20261101T070000
END:STANDARD
BEGIN:DAYLIGHT
TZOFFSETFROM:-0600
TZOFFSETTO:-0500
TZNAME:CDT
DTSTART:20270314T080000
END:DAYLIGHT
BEGIN:STANDARD
TZOFFSETFROM:-0500
TZOFFSETTO:-0600
TZNAME:CST
DTSTART:20271107T070000
END:STANDARD
END:VTIMEZONE
BEGIN:VEVENT
DTSTART;TZID=America/Chicago:20260418T100000
DTEND;TZID=America/Chicago:20260418T120000
DTSTAMP:20260420T161340
CREATED:20260401T022246Z
LAST-MODIFIED:20260401T022246Z
UID:1357-1776506400-1776513600@cafeconversationmidwest.com
SUMMARY:C&C Sioux City - Council Oak Coffee
DESCRIPTION:Council Oak Coffee Supply. Third Saturday of every month. All levels welcome!\nGreat coffee\, great atmosphere\, great people. Improve your French skills one conversation at a time!
URL:https://cafeconversationmidwest.com/event/2026-4-18/
LOCATION:Council Oak Coffee Roasters\, 101 W 3rd\, Sioux City\, IA\, United States
ATTACH;FMTTYPE=image/jpeg:https://cafeconversationmidwest.com/wp-content/uploads/2026/01/siouxcitydec.jpg
END:VEVENT
BEGIN:VEVENT
DTSTART;TZID=America/Chicago:20260418T143000
DTEND;TZID=America/Chicago:20260418T173000
DTSTAMP:20260420T161340
CREATED:20260414T034122Z
LAST-MODIFIED:20260414T034122Z
UID:1362-1776522600-1776533400@cafeconversationmidwest.com
SUMMARY:C&C à Film Streams - L'Étranger
DESCRIPTION:Salut! Jeff is doing a C&C takeover this Saturday! We’ll be going to Film Streams—the downtown Omaha location—for a showing of L’Étranger followed by an organic chat at either Rally coffee\, the Tap Room bar\, or Dolomiti for pizza. TBD by the group!\nYou can buy tickets in advance here: https://filmstreams.org/films/the-stranger
URL:https://cafeconversationmidwest.com/event/2026-4-18-2/
LOCATION:Film Streams’ Ruth Sokolof Theater\, 712 North 14th Street\, Omaha\, NE\, 68102\, United States
ATTACH;FMTTYPE=image/jpeg:https://cafeconversationmidwest.com/wp-content/uploads/2026/04/letranger.jpg
END:VEVENT
BEGIN:VEVENT
DTSTART;TZID=America/Chicago:20260419T140000
DTEND;TZID=America/Chicago:20260419T160000
DTSTAMP:20260420T161340
CREATED:20260411T210811Z
LAST-MODIFIED:20260411T210811Z
UID:1359-1776607200-1776614400@cafeconversationmidwest.com
SUMMARY:C&C Lincoln - Hilton Garden Inn
DESCRIPTION:Join us for a relaxed afternoon of French conversation at the Hilton Garden Inn in the Haymarket! Please bring a snack to share with the group. Drinks\, including alcohol\, will be available for purchase at the hotel bar. Free parking is available in the Haymarket on Sundays—we hope to see you there!
URL:https://cafeconversationmidwest.com/event/2026-4-19/
LOCATION:Hilton Garden Inn\, 801 R St\, Lincoln\, NE\, United States
ATTACH;FMTTYPE=image/jpeg:https://cafeconversationmidwest.com/wp-content/uploads/2026/04/cclincolnhilton.jpg
END:VEVENT
BEGIN:VEVENT
DTSTART;TZID=America/Chicago:20260422T170000
DTEND;TZID=America/Chicago:20260422T190000
DTSTAMP:20260420T161340
CREATED:20260415T225821Z
LAST-MODIFIED:20260415T225821Z
UID:1368-1776877200-1776884400@cafeconversationmidwest.com
SUMMARY:C&C Omaha - Parlons à Vino Más
DESCRIPTION:Salut! We had such a nice time at Vino Mas a few months ago so we have decided to return. Vino Mas sells wine\, beer\, cheese boards and other light bites. We will be meeting in a private room in the back. As always\, everyone is welcome\, from beginners to native French speakers! À bientôt !
URL:https://cafeconversationmidwest.com/event/2026-4-22/
LOCATION:Vino Mas Eagle Run\, 14450 Eagle Run Drive\, Suite 220\, Omaha\, NE\, 68116\, United States
ATTACH;FMTTYPE=image/jpeg:https://cafeconversationmidwest.com/wp-content/uploads/2026/01/vinomaseaglerun.jpg
ORGANIZER;CN="Jennifer McGill":MAILTO:jenandoah1@gmail.com
END:VEVENT
END:VCALENDAR