BEGIN:VCALENDAR
VERSION:2.0
PRODID:-//Café et Conversation Midwest - ECPv6.15.20//NONSGML v1.0//EN
CALSCALE:GREGORIAN
METHOD:PUBLISH
X-ORIGINAL-URL:https://cafeconversationmidwest.com
X-WR-CALDESC:Events for Café et Conversation Midwest
REFRESH-INTERVAL;VALUE=DURATION:PT1H
X-Robots-Tag:noindex
X-PUBLISHED-TTL:PT1H
BEGIN:VTIMEZONE
TZID:America/Chicago
BEGIN:DAYLIGHT
TZOFFSETFROM:-0600
TZOFFSETTO:-0500
TZNAME:CDT
DTSTART:20250309T080000
END:DAYLIGHT
BEGIN:STANDARD
TZOFFSETFROM:-0500
TZOFFSETTO:-0600
TZNAME:CST
DTSTART:20251102T070000
END:STANDARD
BEGIN:DAYLIGHT
TZOFFSETFROM:-0600
TZOFFSETTO:-0500
TZNAME:CDT
DTSTART:20260308T080000
END:DAYLIGHT
BEGIN:STANDARD
TZOFFSETFROM:-0500
TZOFFSETTO:-0600
TZNAME:CST
DTSTART:20261101T070000
END:STANDARD
BEGIN:DAYLIGHT
TZOFFSETFROM:-0600
TZOFFSETTO:-0500
TZNAME:CDT
DTSTART:20270314T080000
END:DAYLIGHT
BEGIN:STANDARD
TZOFFSETFROM:-0500
TZOFFSETTO:-0600
TZNAME:CST
DTSTART:20271107T070000
END:STANDARD
END:VTIMEZONE
BEGIN:VEVENT
DTSTART;TZID=America/Chicago:20260404T140000
DTEND;TZID=America/Chicago:20260404T153000
DTSTAMP:20260420T102812
CREATED:20260307T022500Z
LAST-MODIFIED:20260331T014354Z
UID:1339-1775311200-1775316600@cafeconversationmidwest.com
SUMMARY:Café et Conversation Omaha - Grand Patisserie *note new location*
DESCRIPTION:Rebonjour\, tout le monde! Well\, the weather this Saturday looks too cold for Trucks & Taps. So…we’re going to meet at a new place: Grand Patisserie in Aksarben Village. It’s a wonderful patisserie with plenty of coffee beverages. They’re very friendly and are looking forward to our visit. Grand Patisserie is located on the east side of 67th Streeet\, just north of Center Street. Rejoignez-nous pour la conversation! All levels welcome! À bientôt!
URL:https://cafeconversationmidwest.com/event/2026-4-4/
LOCATION:Grand Patisserie – Aksarben\, 2283 South 67th Street\, Omaha\, 68106\, United States
ATTACH;FMTTYPE=image/jpeg:https://cafeconversationmidwest.com/wp-content/uploads/2026/03/grandpatisserie.jpg
END:VEVENT
END:VCALENDAR