BEGIN:VCALENDAR
VERSION:2.0
PRODID:-//Café et Conversation Midwest - ECPv6.15.20//NONSGML v1.0//EN
CALSCALE:GREGORIAN
METHOD:PUBLISH
X-WR-CALNAME:Café et Conversation Midwest
X-ORIGINAL-URL:https://cafeconversationmidwest.com
X-WR-CALDESC:Events for Café et Conversation Midwest
REFRESH-INTERVAL;VALUE=DURATION:PT1H
X-Robots-Tag:noindex
X-PUBLISHED-TTL:PT1H
BEGIN:VTIMEZONE
TZID:America/Chicago
BEGIN:DAYLIGHT
TZOFFSETFROM:-0600
TZOFFSETTO:-0500
TZNAME:CDT
DTSTART:20250309T080000
END:DAYLIGHT
BEGIN:STANDARD
TZOFFSETFROM:-0500
TZOFFSETTO:-0600
TZNAME:CST
DTSTART:20251102T070000
END:STANDARD
BEGIN:DAYLIGHT
TZOFFSETFROM:-0600
TZOFFSETTO:-0500
TZNAME:CDT
DTSTART:20260308T080000
END:DAYLIGHT
BEGIN:STANDARD
TZOFFSETFROM:-0500
TZOFFSETTO:-0600
TZNAME:CST
DTSTART:20261101T070000
END:STANDARD
BEGIN:DAYLIGHT
TZOFFSETFROM:-0600
TZOFFSETTO:-0500
TZNAME:CDT
DTSTART:20270314T080000
END:DAYLIGHT
BEGIN:STANDARD
TZOFFSETFROM:-0500
TZOFFSETTO:-0600
TZNAME:CST
DTSTART:20271107T070000
END:STANDARD
END:VTIMEZONE
BEGIN:VEVENT
DTSTART;TZID=America/Chicago:20260402T180000
DTEND;TZID=America/Chicago:20260402T200000
DTSTAMP:20260420T102547
CREATED:20260331T014102Z
LAST-MODIFIED:20260331T014102Z
UID:1351-1775152800-1775160000@cafeconversationmidwest.com
SUMMARY:C&C Sioux City - Oscar Carl Vineyard
DESCRIPTION:Mark your calendars for the first Thursday of each month. We’re making our Oscar Carl Vineyard meeting a standing monthly event. We will also continue to meet on the third Saturday at Council Oak Coffee (10 – noon).\nAll levels welcome. Treat yourself to wonderful atmosphere with great local wine and beer. Join our friendly French conversation to take the next step toward fluency with us!
URL:https://cafeconversationmidwest.com/event/2026-4-2/
LOCATION:Oscar Carl Vineyard\, 1473 Buchanan Avenue\, Sioux City\, NE\, 51106\, United States
ATTACH;FMTTYPE=image/jpeg:https://cafeconversationmidwest.com/wp-content/uploads/2026/03/oscarcarl.jpg
END:VEVENT
END:VCALENDAR