BEGIN:VCALENDAR
VERSION:2.0
PRODID:-//Café et Conversation Midwest - ECPv6.15.20//NONSGML v1.0//EN
CALSCALE:GREGORIAN
METHOD:PUBLISH
X-WR-CALNAME:Café et Conversation Midwest
X-ORIGINAL-URL:https://cafeconversationmidwest.com
X-WR-CALDESC:Events for Café et Conversation Midwest
REFRESH-INTERVAL;VALUE=DURATION:PT1H
X-Robots-Tag:noindex
X-PUBLISHED-TTL:PT1H
BEGIN:VTIMEZONE
TZID:America/Chicago
BEGIN:DAYLIGHT
TZOFFSETFROM:-0600
TZOFFSETTO:-0500
TZNAME:CDT
DTSTART:20250309T080000
END:DAYLIGHT
BEGIN:STANDARD
TZOFFSETFROM:-0500
TZOFFSETTO:-0600
TZNAME:CST
DTSTART:20251102T070000
END:STANDARD
BEGIN:DAYLIGHT
TZOFFSETFROM:-0600
TZOFFSETTO:-0500
TZNAME:CDT
DTSTART:20260308T080000
END:DAYLIGHT
BEGIN:STANDARD
TZOFFSETFROM:-0500
TZOFFSETTO:-0600
TZNAME:CST
DTSTART:20261101T070000
END:STANDARD
BEGIN:DAYLIGHT
TZOFFSETFROM:-0600
TZOFFSETTO:-0500
TZNAME:CDT
DTSTART:20270314T080000
END:DAYLIGHT
BEGIN:STANDARD
TZOFFSETFROM:-0500
TZOFFSETTO:-0600
TZNAME:CST
DTSTART:20271107T070000
END:STANDARD
END:VTIMEZONE
BEGIN:VEVENT
DTSTART;TZID=America/Chicago:20260329T133000
DTEND;TZID=America/Chicago:20260329T150000
DTSTAMP:20260420T115813
CREATED:20260326T022058Z
LAST-MODIFIED:20260329T183440Z
UID:1347-1774791000-1774796400@cafeconversationmidwest.com
SUMMARY:C&C Omaha - Parlons à FIG (location changed)
DESCRIPTION:For our final event in March\, C&C will return to Site-1 Brewing on Farnam Street. Site-1 has an extensive beer menu along with craft cocktails. If anyone wants to get a bite\, they sell Detroit style pizza as well as sandwiches and salads. \nParking can be found in a free lot across the street on 26th and Farnam as well as on Farnam (metered). \nWe hope to see many of you there – remember\, from beginners to native French speakers\, everyone is welcome! À dimanche !
URL:https://cafeconversationmidwest.com/event/2026-3-29/
LOCATION:Fig\, 345 Riverfront Dr\, Omaha\, Nebraska
ATTACH;FMTTYPE=image/png:https://cafeconversationmidwest.com/wp-content/uploads/2025/10/1690154949158blob.png
END:VEVENT
END:VCALENDAR