BEGIN:VCALENDAR
VERSION:2.0
PRODID:-//Café et Conversation Midwest - ECPv6.15.20//NONSGML v1.0//EN
CALSCALE:GREGORIAN
METHOD:PUBLISH
X-WR-CALNAME:Café et Conversation Midwest
X-ORIGINAL-URL:https://cafeconversationmidwest.com
X-WR-CALDESC:Events for Café et Conversation Midwest
REFRESH-INTERVAL;VALUE=DURATION:PT1H
X-Robots-Tag:noindex
X-PUBLISHED-TTL:PT1H
BEGIN:VTIMEZONE
TZID:America/Chicago
BEGIN:DAYLIGHT
TZOFFSETFROM:-0600
TZOFFSETTO:-0500
TZNAME:CDT
DTSTART:20250309T080000
END:DAYLIGHT
BEGIN:STANDARD
TZOFFSETFROM:-0500
TZOFFSETTO:-0600
TZNAME:CST
DTSTART:20251102T070000
END:STANDARD
BEGIN:DAYLIGHT
TZOFFSETFROM:-0600
TZOFFSETTO:-0500
TZNAME:CDT
DTSTART:20260308T080000
END:DAYLIGHT
BEGIN:STANDARD
TZOFFSETFROM:-0500
TZOFFSETTO:-0600
TZNAME:CST
DTSTART:20261101T070000
END:STANDARD
BEGIN:DAYLIGHT
TZOFFSETFROM:-0600
TZOFFSETTO:-0500
TZNAME:CDT
DTSTART:20270314T080000
END:DAYLIGHT
BEGIN:STANDARD
TZOFFSETFROM:-0500
TZOFFSETTO:-0600
TZNAME:CST
DTSTART:20271107T070000
END:STANDARD
END:VTIMEZONE
BEGIN:VEVENT
DTSTART;TZID=America/Chicago:20260307T133000
DTEND;TZID=America/Chicago:20260307T153000
DTSTAMP:20260420T115346
CREATED:20260301T220220Z
LAST-MODIFIED:20260301T220220Z
UID:1328-1772890200-1772897400@cafeconversationmidwest.com
SUMMARY:C&C Omaha - Back to Basics à Corkscrew Rockbrook
DESCRIPTION:Come practice your French in a relaxed\, welcoming setting. All levels are welcome\, whether you’re just starting out or looking to brush up your skills. Grab a drink\, meet great people\, and try out your French!\n\nVenez pratiquer votre français dans une ambiance détendue et accueillante. Tous les niveaux sont les bienvenus\, que vous débutiez ou que vous souhaitiez vous remettre à niveau. Prenez un verre\, rencontrez des gens sympas et lancez-vous en français !
URL:https://cafeconversationmidwest.com/event/2026-3-7/
LOCATION:Corkscrew Rockbrook\, 10924 Prairie Brook Rd\, Omaha\, NE\, 68144\, United States
ATTACH;FMTTYPE=image/jpeg:https://cafeconversationmidwest.com/wp-content/uploads/2025/02/IMG_5438.jpg
END:VEVENT
END:VCALENDAR