BEGIN:VCALENDAR
VERSION:2.0
PRODID:-//Café et Conversation Midwest - ECPv6.15.20//NONSGML v1.0//EN
CALSCALE:GREGORIAN
METHOD:PUBLISH
X-WR-CALNAME:Café et Conversation Midwest
X-ORIGINAL-URL:https://cafeconversationmidwest.com
X-WR-CALDESC:Events for Café et Conversation Midwest
REFRESH-INTERVAL;VALUE=DURATION:PT1H
X-Robots-Tag:noindex
X-PUBLISHED-TTL:PT1H
BEGIN:VTIMEZONE
TZID:America/Chicago
BEGIN:DAYLIGHT
TZOFFSETFROM:-0600
TZOFFSETTO:-0500
TZNAME:CDT
DTSTART:20250309T080000
END:DAYLIGHT
BEGIN:STANDARD
TZOFFSETFROM:-0500
TZOFFSETTO:-0600
TZNAME:CST
DTSTART:20251102T070000
END:STANDARD
BEGIN:DAYLIGHT
TZOFFSETFROM:-0600
TZOFFSETTO:-0500
TZNAME:CDT
DTSTART:20260308T080000
END:DAYLIGHT
BEGIN:STANDARD
TZOFFSETFROM:-0500
TZOFFSETTO:-0600
TZNAME:CST
DTSTART:20261101T070000
END:STANDARD
BEGIN:DAYLIGHT
TZOFFSETFROM:-0600
TZOFFSETTO:-0500
TZNAME:CDT
DTSTART:20270314T080000
END:DAYLIGHT
BEGIN:STANDARD
TZOFFSETFROM:-0500
TZOFFSETTO:-0600
TZNAME:CST
DTSTART:20271107T070000
END:STANDARD
END:VTIMEZONE
BEGIN:VEVENT
DTSTART;TZID=America/Chicago:20260220T180000
DTEND;TZID=America/Chicago:20260220T200000
DTSTAMP:20260420T132236
CREATED:20260128T034256Z
LAST-MODIFIED:20260128T034256Z
UID:1300-1771610400-1771617600@cafeconversationmidwest.com
SUMMARY:Apéro with Charlie Whitesides from Street French
DESCRIPTION:Please join us for a very special reunion as Café et Conversation Midwest welcomes back Charlie Whitesides\, founder of the popular YouTube channel\, StreetFrench.org! If you’ve watched any of Charlie’s videos\, then you know he loves to help French learners to speak French the way it’s meant to be spoken. \nThe original inspiration for the founding of Café et Conversation Midwest\, Charlie will be coming in from Paris to join us for a unique opportunity to practice French with one of the best there is! Did we mention that he LOVES Nebraska? \nWe hope you can come and welcome Charlie for apéro and pizza night at one of our favorite gather spots\, Fariner!
URL:https://cafeconversationmidwest.com/event/apero-with-charlie-whitesides-from-street-french/
LOCATION:Fariner Bakery\, 120 North 14th Street\, Ashland\, NE\, 68003\, United States
ATTACH;FMTTYPE=image/jpeg:https://cafeconversationmidwest.com/wp-content/uploads/2026/01/charliefariner.jpg
END:VEVENT
END:VCALENDAR