BEGIN:VCALENDAR
VERSION:2.0
PRODID:-//Café et Conversation Midwest - ECPv6.15.20//NONSGML v1.0//EN
CALSCALE:GREGORIAN
METHOD:PUBLISH
X-ORIGINAL-URL:https://cafeconversationmidwest.com
X-WR-CALDESC:Events for Café et Conversation Midwest
REFRESH-INTERVAL;VALUE=DURATION:PT1H
X-Robots-Tag:noindex
X-PUBLISHED-TTL:PT1H
BEGIN:VTIMEZONE
TZID:America/Chicago
BEGIN:DAYLIGHT
TZOFFSETFROM:-0600
TZOFFSETTO:-0500
TZNAME:CDT
DTSTART:20250309T080000
END:DAYLIGHT
BEGIN:STANDARD
TZOFFSETFROM:-0500
TZOFFSETTO:-0600
TZNAME:CST
DTSTART:20251102T070000
END:STANDARD
BEGIN:DAYLIGHT
TZOFFSETFROM:-0600
TZOFFSETTO:-0500
TZNAME:CDT
DTSTART:20260308T080000
END:DAYLIGHT
BEGIN:STANDARD
TZOFFSETFROM:-0500
TZOFFSETTO:-0600
TZNAME:CST
DTSTART:20261101T070000
END:STANDARD
BEGIN:DAYLIGHT
TZOFFSETFROM:-0600
TZOFFSETTO:-0500
TZNAME:CDT
DTSTART:20270314T080000
END:DAYLIGHT
BEGIN:STANDARD
TZOFFSETFROM:-0500
TZOFFSETTO:-0600
TZNAME:CST
DTSTART:20271107T070000
END:STANDARD
END:VTIMEZONE
BEGIN:VEVENT
DTSTART;TZID=America/Chicago:20260129T173000
DTEND;TZID=America/Chicago:20260129T193000
DTSTAMP:20260420T132400
CREATED:20260110T211146Z
LAST-MODIFIED:20260110T211146Z
UID:1294-1769707800-1769715000@cafeconversationmidwest.com
SUMMARY:Parlons à Vino Mas - Eagle Run
DESCRIPTION:Salut! C&C Omaha’s last event in January will see us try out a place we’ve never met before – the Eagle Run (Grayhawk Pointe) location of Vino Mas. Vino Mas sells wine\, beer\, cheese boards and other light bites. We will be meeting in a private room in the back. In their main room they will have live music from 6:30-8:30 if anyone is interested in enjoying that after some French conversation. As always\, everyone is welcome\, from beginners to native French speakers! À bientôt !
URL:https://cafeconversationmidwest.com/event/2026-01-10/
LOCATION:Vino Mas Eagle Run\, 14450 Eagle Run Drive\, Suite 220\, Omaha\, NE\, 68116\, United States
ATTACH;FMTTYPE=image/jpeg:https://cafeconversationmidwest.com/wp-content/uploads/2026/01/vinomaseaglerun.jpg
ORGANIZER;CN="Jennifer McGill":MAILTO:jenandoah1@gmail.com
END:VEVENT
END:VCALENDAR