BEGIN:VCALENDAR
VERSION:2.0
PRODID:-//Café et Conversation Midwest - ECPv6.15.20//NONSGML v1.0//EN
CALSCALE:GREGORIAN
METHOD:PUBLISH
X-WR-CALNAME:Café et Conversation Midwest
X-ORIGINAL-URL:https://cafeconversationmidwest.com
X-WR-CALDESC:Events for Café et Conversation Midwest
REFRESH-INTERVAL;VALUE=DURATION:PT1H
X-Robots-Tag:noindex
X-PUBLISHED-TTL:PT1H
BEGIN:VTIMEZONE
TZID:America/Chicago
BEGIN:DAYLIGHT
TZOFFSETFROM:-0600
TZOFFSETTO:-0500
TZNAME:CDT
DTSTART:20250309T080000
END:DAYLIGHT
BEGIN:STANDARD
TZOFFSETFROM:-0500
TZOFFSETTO:-0600
TZNAME:CST
DTSTART:20251102T070000
END:STANDARD
BEGIN:DAYLIGHT
TZOFFSETFROM:-0600
TZOFFSETTO:-0500
TZNAME:CDT
DTSTART:20260308T080000
END:DAYLIGHT
BEGIN:STANDARD
TZOFFSETFROM:-0500
TZOFFSETTO:-0600
TZNAME:CST
DTSTART:20261101T070000
END:STANDARD
BEGIN:DAYLIGHT
TZOFFSETFROM:-0600
TZOFFSETTO:-0500
TZNAME:CDT
DTSTART:20270314T080000
END:DAYLIGHT
BEGIN:STANDARD
TZOFFSETFROM:-0500
TZOFFSETTO:-0600
TZNAME:CST
DTSTART:20271107T070000
END:STANDARD
END:VTIMEZONE
BEGIN:VEVENT
DTSTART;TZID=America/Chicago:20260124T123000
DTEND;TZID=America/Chicago:20260124T140000
DTSTAMP:20260420T143710
CREATED:20260109T022435Z
LAST-MODIFIED:20260109T022435Z
UID:1290-1769257800-1769263200@cafeconversationmidwest.com
SUMMARY:Parlons à Karma Koffee
DESCRIPTION:Bonjour\, tout le monde! We’re meeting at Karma for some warm beverages and lively conversation. They have plenty of tasty options ranging from coffee\, tea and smoothies to breakfast items and pastries. \nKarma Koffee is located in Pepperwood Village near 156th and Dodge on the north side of the plaza. \nWe hope to see you there no matter your level of French!
URL:https://cafeconversationmidwest.com/event/parlons-a-karma-koffee-3/
LOCATION:Karma Koffee\, 587 North 155th Plaza\, Omaha\, NE
ATTACH;FMTTYPE=image/jpeg:https://cafeconversationmidwest.com/wp-content/uploads/2025/04/Karma-Koffee.jpg
END:VEVENT
END:VCALENDAR