BEGIN:VCALENDAR
VERSION:2.0
PRODID:-//Café et Conversation Midwest - ECPv6.15.20//NONSGML v1.0//EN
CALSCALE:GREGORIAN
METHOD:PUBLISH
X-ORIGINAL-URL:https://cafeconversationmidwest.com
X-WR-CALDESC:Events for Café et Conversation Midwest
REFRESH-INTERVAL;VALUE=DURATION:PT1H
X-Robots-Tag:noindex
X-PUBLISHED-TTL:PT1H
BEGIN:VTIMEZONE
TZID:America/Chicago
BEGIN:DAYLIGHT
TZOFFSETFROM:-0600
TZOFFSETTO:-0500
TZNAME:CDT
DTSTART:20250309T080000
END:DAYLIGHT
BEGIN:STANDARD
TZOFFSETFROM:-0500
TZOFFSETTO:-0600
TZNAME:CST
DTSTART:20251102T070000
END:STANDARD
BEGIN:DAYLIGHT
TZOFFSETFROM:-0600
TZOFFSETTO:-0500
TZNAME:CDT
DTSTART:20260308T080000
END:DAYLIGHT
BEGIN:STANDARD
TZOFFSETFROM:-0500
TZOFFSETTO:-0600
TZNAME:CST
DTSTART:20261101T070000
END:STANDARD
BEGIN:DAYLIGHT
TZOFFSETFROM:-0600
TZOFFSETTO:-0500
TZNAME:CDT
DTSTART:20270314T080000
END:DAYLIGHT
BEGIN:STANDARD
TZOFFSETFROM:-0500
TZOFFSETTO:-0600
TZNAME:CST
DTSTART:20271107T070000
END:STANDARD
END:VTIMEZONE
BEGIN:VEVENT
DTSTART;TZID=America/Chicago:20260114T180000
DTEND;TZID=America/Chicago:20260114T193000
DTSTAMP:20260420T143938
CREATED:20260109T022141Z
LAST-MODIFIED:20260109T022141Z
UID:1288-1768413600-1768419000@cafeconversationmidwest.com
SUMMARY:Parlons à iDLE Wine & Goods
DESCRIPTION:Salut! For the third week of January\, we will be heading back to iDLE Wine & Goods in Little Bohemia. Those of you who were at C&C meetings there in the past will remember its tasty wine and cozy atmosphere. \nAs well as wine\, iDLE sells tasty and unusual snacks. They share a building with Lumen Beer Company and those who wish to order beer can easily move between the two shops. Lumen also has pizza and other bites. \nParking is available on 13th Street and in a lot on 13th and William. \nEveryone is welcome and encouraged to come\, no matter if you are a beginner\, a native French speaker\, or somewhere in between. Hope to see you there!
URL:https://cafeconversationmidwest.com/event/parlons-a-idle-wine-goods-3/
LOCATION:iDLE Wine & Goods\, 1433 S 13th S\, Omaha\, NE\, United States
ATTACH;FMTTYPE=image/jpeg:https://cafeconversationmidwest.com/wp-content/uploads/2025/09/idlefeb2025.jpg
END:VEVENT
END:VCALENDAR