BEGIN:VCALENDAR
VERSION:2.0
PRODID:-//Café et Conversation Midwest - ECPv6.15.20//NONSGML v1.0//EN
CALSCALE:GREGORIAN
METHOD:PUBLISH
X-ORIGINAL-URL:https://cafeconversationmidwest.com
X-WR-CALDESC:Events for Café et Conversation Midwest
REFRESH-INTERVAL;VALUE=DURATION:PT1H
X-Robots-Tag:noindex
X-PUBLISHED-TTL:PT1H
BEGIN:VTIMEZONE
TZID:America/Chicago
BEGIN:DAYLIGHT
TZOFFSETFROM:-0600
TZOFFSETTO:-0500
TZNAME:CDT
DTSTART:20240310T080000
END:DAYLIGHT
BEGIN:STANDARD
TZOFFSETFROM:-0500
TZOFFSETTO:-0600
TZNAME:CST
DTSTART:20241103T070000
END:STANDARD
BEGIN:DAYLIGHT
TZOFFSETFROM:-0600
TZOFFSETTO:-0500
TZNAME:CDT
DTSTART:20250309T080000
END:DAYLIGHT
BEGIN:STANDARD
TZOFFSETFROM:-0500
TZOFFSETTO:-0600
TZNAME:CST
DTSTART:20251102T070000
END:STANDARD
BEGIN:DAYLIGHT
TZOFFSETFROM:-0600
TZOFFSETTO:-0500
TZNAME:CDT
DTSTART:20260308T080000
END:DAYLIGHT
BEGIN:STANDARD
TZOFFSETFROM:-0500
TZOFFSETTO:-0600
TZNAME:CST
DTSTART:20261101T070000
END:STANDARD
END:VTIMEZONE
BEGIN:VEVENT
DTSTART;TZID=America/Chicago:20251211T180000
DTEND;TZID=America/Chicago:20251211T200000
DTSTAMP:20260420T160444
CREATED:20251209T023250Z
LAST-MODIFIED:20251209T023250Z
UID:1264-1765476000-1765483200@cafeconversationmidwest.com
SUMMARY:Café et Conversation Sioux City - Oscar Carl Vineyard
DESCRIPTION:You’re warmly invited to join us for a relaxed French conversation get-together. Come experience Oscar Carl\, a charming vineyard nestled in the countryside just outside of Sioux City. We’ll stay cozy inside enjoying local wines and beer\, plus a simple menu of foods to choose from.\nWhether you’re fluent or just beginning\, all levels are welcome. What matters most is good company and the joy of speaking together.\nSee less
URL:https://cafeconversationmidwest.com/event/cafe-et-conversation-sioux-city-oscar-carl-vineyard/
LOCATION:Oscar Carl Vineyard\, 1473 Buchanan Avenue\, Sioux City\, NE\, 51106\, United States
ATTACH;FMTTYPE=image/webp:https://cafeconversationmidwest.com/wp-content/uploads/2025/12/oscarcarl.webp
END:VEVENT
END:VCALENDAR