BEGIN:VCALENDAR
VERSION:2.0
PRODID:-//Café et Conversation Midwest - ECPv6.15.20//NONSGML v1.0//EN
CALSCALE:GREGORIAN
METHOD:PUBLISH
X-WR-CALNAME:Café et Conversation Midwest
X-ORIGINAL-URL:https://cafeconversationmidwest.com
X-WR-CALDESC:Events for Café et Conversation Midwest
REFRESH-INTERVAL;VALUE=DURATION:PT1H
X-Robots-Tag:noindex
X-PUBLISHED-TTL:PT1H
BEGIN:VTIMEZONE
TZID:America/Chicago
BEGIN:DAYLIGHT
TZOFFSETFROM:-0600
TZOFFSETTO:-0500
TZNAME:CDT
DTSTART:20240310T080000
END:DAYLIGHT
BEGIN:STANDARD
TZOFFSETFROM:-0500
TZOFFSETTO:-0600
TZNAME:CST
DTSTART:20241103T070000
END:STANDARD
BEGIN:DAYLIGHT
TZOFFSETFROM:-0600
TZOFFSETTO:-0500
TZNAME:CDT
DTSTART:20250309T080000
END:DAYLIGHT
BEGIN:STANDARD
TZOFFSETFROM:-0500
TZOFFSETTO:-0600
TZNAME:CST
DTSTART:20251102T070000
END:STANDARD
BEGIN:DAYLIGHT
TZOFFSETFROM:-0600
TZOFFSETTO:-0500
TZNAME:CDT
DTSTART:20260308T080000
END:DAYLIGHT
BEGIN:STANDARD
TZOFFSETFROM:-0500
TZOFFSETTO:-0600
TZNAME:CST
DTSTART:20261101T070000
END:STANDARD
END:VTIMEZONE
BEGIN:VEVENT
DTSTART;TZID=America/Chicago:20251203T173000
DTEND;TZID=America/Chicago:20251203T190000
DTSTAMP:20260420T160131
CREATED:20251201T010719Z
LAST-MODIFIED:20251202T023405Z
UID:1248-1764783000-1764788400@cafeconversationmidwest.com
SUMMARY:Parlons à Big Grove Brewery - Wednesday
DESCRIPTION:After a short Thanksgiving break\, C&C is back! This week we will be meeting at a new venue\, Big Grove Brewery. This event has been scheduled by a brand new organizer for C&C Omaha – please join us in welcoming Jerry Syslo to the team!\nBig Grove sells their own in-house beer as well as mocktails and other non-alcoholic options. They also have a full dinner menu.\nMetered parking is available on the street and in a garage.\nAs always\, this event is for all levels of French! We hope to see you there! \nPlease note that this event is on *WEDNESDAY*. The event was previously posted with Thursday’s date in error. Sorry for any inconvenience caused.
URL:https://cafeconversationmidwest.com/event/parlons-a-big-grove-brewery/
LOCATION:Big Grove Brewery\, 4601 Catalyst Court\, Omaha\, NE\, 68106\, United States
ATTACH;FMTTYPE=image/webp:https://cafeconversationmidwest.com/wp-content/uploads/2025/11/biggrove.webp
END:VEVENT
END:VCALENDAR