BEGIN:VCALENDAR
VERSION:2.0
PRODID:-//Café et Conversation Midwest - ECPv6.15.20//NONSGML v1.0//EN
CALSCALE:GREGORIAN
METHOD:PUBLISH
X-ORIGINAL-URL:https://cafeconversationmidwest.com
X-WR-CALDESC:Events for Café et Conversation Midwest
REFRESH-INTERVAL;VALUE=DURATION:PT1H
X-Robots-Tag:noindex
X-PUBLISHED-TTL:PT1H
BEGIN:VTIMEZONE
TZID:America/Chicago
BEGIN:DAYLIGHT
TZOFFSETFROM:-0600
TZOFFSETTO:-0500
TZNAME:CDT
DTSTART:20240310T080000
END:DAYLIGHT
BEGIN:STANDARD
TZOFFSETFROM:-0500
TZOFFSETTO:-0600
TZNAME:CST
DTSTART:20241103T070000
END:STANDARD
BEGIN:DAYLIGHT
TZOFFSETFROM:-0600
TZOFFSETTO:-0500
TZNAME:CDT
DTSTART:20250309T080000
END:DAYLIGHT
BEGIN:STANDARD
TZOFFSETFROM:-0500
TZOFFSETTO:-0600
TZNAME:CST
DTSTART:20251102T070000
END:STANDARD
BEGIN:DAYLIGHT
TZOFFSETFROM:-0600
TZOFFSETTO:-0500
TZNAME:CDT
DTSTART:20260308T080000
END:DAYLIGHT
BEGIN:STANDARD
TZOFFSETFROM:-0500
TZOFFSETTO:-0600
TZNAME:CST
DTSTART:20261101T070000
END:STANDARD
END:VTIMEZONE
BEGIN:VEVENT
DTSTART;TZID=America/Chicago:20251109T123000
DTEND;TZID=America/Chicago:20251109T140000
DTSTAMP:20260420T172344
CREATED:20251104T012051Z
LAST-MODIFIED:20251104T012051Z
UID:1232-1762691400-1762696800@cafeconversationmidwest.com
SUMMARY:Café et Conversation Lincoln - Lancer de haches
DESCRIPTION:What’s better than gathering to speak French? Throwing axes at the same time! The cost of axe throwing will depend on the size of our group ($19-$22). To RSVP\, please send a message directly to Sara Parkening or email her at esparken@gmail.com. We will reserve a lane or two for one hour. Arbor Axe House has a small parking lot and a bar. At 2pm\, we will head across the street to Saro Cider for a drink and continued French conversation! Join us for one or both!
URL:https://cafeconversationmidwest.com/event/cafe-et-conversation-lincoln-lancer-de-haches/
LOCATION:Arbor Axe House\, 1821 N Street\, Lincoln\, NE\, 68508\, United States
ATTACH;FMTTYPE=image/jpeg:https://cafeconversationmidwest.com/wp-content/uploads/2025/11/arboraxe.jpg
END:VEVENT
BEGIN:VEVENT
DTSTART;TZID=America/Chicago:20251109T140000
DTEND;TZID=America/Chicago:20251109T153000
DTSTAMP:20260420T172344
CREATED:20251104T012850Z
LAST-MODIFIED:20251104T012850Z
UID:1237-1762696800-1762702200@cafeconversationmidwest.com
SUMMARY:Café et Conversation Lincoln - Saro Cider
DESCRIPTION:Axe throwing isn’t your thing? Ça va! Meet up with us after axe throwing at Saro Cider. We have reserved some tables for our group. Street parking available.\nIf you are interested in axe throwing with the group\, please see the “Lancer de Haches” event and R.S.V.P to Sara at esparken@gmail.com.
URL:https://cafeconversationmidwest.com/event/cafe-et-conversation-lincoln-saro-cider/
LOCATION:Saro Cider\, 1746 N Street\, Lincoln\, NE\, 68508\, United States
ATTACH;FMTTYPE=image/jpeg:https://cafeconversationmidwest.com/wp-content/uploads/2025/11/saro.jpg
END:VEVENT
END:VCALENDAR