BEGIN:VCALENDAR
VERSION:2.0
PRODID:-//Café et Conversation Midwest - ECPv6.15.20//NONSGML v1.0//EN
CALSCALE:GREGORIAN
METHOD:PUBLISH
X-ORIGINAL-URL:https://cafeconversationmidwest.com
X-WR-CALDESC:Events for Café et Conversation Midwest
REFRESH-INTERVAL;VALUE=DURATION:PT1H
X-Robots-Tag:noindex
X-PUBLISHED-TTL:PT1H
BEGIN:VTIMEZONE
TZID:America/Chicago
BEGIN:DAYLIGHT
TZOFFSETFROM:-0600
TZOFFSETTO:-0500
TZNAME:CDT
DTSTART:20240310T080000
END:DAYLIGHT
BEGIN:STANDARD
TZOFFSETFROM:-0500
TZOFFSETTO:-0600
TZNAME:CST
DTSTART:20241103T070000
END:STANDARD
BEGIN:DAYLIGHT
TZOFFSETFROM:-0600
TZOFFSETTO:-0500
TZNAME:CDT
DTSTART:20250309T080000
END:DAYLIGHT
BEGIN:STANDARD
TZOFFSETFROM:-0500
TZOFFSETTO:-0600
TZNAME:CST
DTSTART:20251102T070000
END:STANDARD
BEGIN:DAYLIGHT
TZOFFSETFROM:-0600
TZOFFSETTO:-0500
TZNAME:CDT
DTSTART:20260308T080000
END:DAYLIGHT
BEGIN:STANDARD
TZOFFSETFROM:-0500
TZOFFSETTO:-0600
TZNAME:CST
DTSTART:20261101T070000
END:STANDARD
END:VTIMEZONE
BEGIN:VEVENT
DTSTART;TZID=America/Chicago:20251026T113000
DTEND;TZID=America/Chicago:20251026T130000
DTSTAMP:20260420T185753
CREATED:20251022T022413Z
LAST-MODIFIED:20251022T022413Z
UID:1217-1761478200-1761483600@cafeconversationmidwest.com
SUMMARY:Parlons à Myrtle & Cypress (Omaha Conservatory of Music)
DESCRIPTION:Bonjour à tous! This coming weekend\, C&C will be meeting at the Omaha Conservatory of Music location of Myrtle & Cypress.\nMyrtle & Cypress serves coffee\, tea\, hot chocolate and a few pastries and savory items.\nFree parking is available in the Omaha Conservatory of Music lot.\nEveryone is welcome and encouraged to come\, no matter if you are a beginner\, a native French speaker\, or somewhere in between. This is an all-ages venue so high school and college students are especially encouraged to come. Hope to see you there!
URL:https://cafeconversationmidwest.com/event/parlons-a-myrtle-cypress-omaha-conservatory-of-music-5/
LOCATION:Myrtle & Cypress (Omaha Conservatory of Music)\, 7023 Cass Street\, Omaha\, NE\, 68132\, United States
ATTACH;FMTTYPE=image/jpeg:https://cafeconversationmidwest.com/wp-content/uploads/2025/08/myrtleccmay2025-scaled.jpg
END:VEVENT
END:VCALENDAR