BEGIN:VCALENDAR
VERSION:2.0
PRODID:-//Café et Conversation Midwest - ECPv6.15.20//NONSGML v1.0//EN
CALSCALE:GREGORIAN
METHOD:PUBLISH
X-WR-CALNAME:Café et Conversation Midwest
X-ORIGINAL-URL:https://cafeconversationmidwest.com
X-WR-CALDESC:Events for Café et Conversation Midwest
REFRESH-INTERVAL;VALUE=DURATION:PT1H
X-Robots-Tag:noindex
X-PUBLISHED-TTL:PT1H
BEGIN:VTIMEZONE
TZID:America/Chicago
BEGIN:DAYLIGHT
TZOFFSETFROM:-0600
TZOFFSETTO:-0500
TZNAME:CDT
DTSTART:20240310T080000
END:DAYLIGHT
BEGIN:STANDARD
TZOFFSETFROM:-0500
TZOFFSETTO:-0600
TZNAME:CST
DTSTART:20241103T070000
END:STANDARD
BEGIN:DAYLIGHT
TZOFFSETFROM:-0600
TZOFFSETTO:-0500
TZNAME:CDT
DTSTART:20250309T080000
END:DAYLIGHT
BEGIN:STANDARD
TZOFFSETFROM:-0500
TZOFFSETTO:-0600
TZNAME:CST
DTSTART:20251102T070000
END:STANDARD
BEGIN:DAYLIGHT
TZOFFSETFROM:-0600
TZOFFSETTO:-0500
TZNAME:CDT
DTSTART:20260308T080000
END:DAYLIGHT
BEGIN:STANDARD
TZOFFSETFROM:-0500
TZOFFSETTO:-0600
TZNAME:CST
DTSTART:20261101T070000
END:STANDARD
END:VTIMEZONE
BEGIN:VEVENT
DTSTART;TZID=America/Chicago:20251025T093000
DTEND;TZID=America/Chicago:20251025T110000
DTSTAMP:20260420T185007
CREATED:20251022T014330Z
LAST-MODIFIED:20251022T021239Z
UID:1209-1761384600-1761390000@cafeconversationmidwest.com
SUMMARY:Café et Conversation Lincoln à Cooper Co. Home + Gift
DESCRIPTION:This month\, we will meet for coffee and bagels at Cooper and Co. Home + Gift. They have a delightful outdoor space between their two stores and they have agreed to let us hold our event there again this year. They also informed me this year they don’t have as many tables and seating. I will bring a couple tables. Please bring a lawn chair just in case.\nI will plan to bring the coffee and bagels. I am looking for volunteers who could bring napkins\, plates and plasticware\, juice and cups. If anyone else wants to bring some fruit or other pastries\, that would be more than welcome too!\nPlease RSVP by clicking “going” on the Facebook event or email esparken@gmail.com so we are sure to have enough food and drink.\nDress accordingly! In the case of inclement weather (rain or cold) please check email and Facebook for a cancellation.
URL:https://cafeconversationmidwest.com/event/cafe-et-conversation-lincoln-a-cooper-home-gift/
LOCATION:Cooper & Co. Home + Gift\, 2211 Winthrop Road\, Lincoln\, NE\, United States
ATTACH;FMTTYPE=image/jpeg:https://cafeconversationmidwest.com/wp-content/uploads/2025/10/cooperhomeandgift.jpg
END:VEVENT
BEGIN:VEVENT
DTSTART;TZID=America/Chicago:20251025T100000
DTEND;TZID=America/Chicago:20251025T120000
DTSTAMP:20260420T185007
CREATED:20251022T014646Z
LAST-MODIFIED:20251022T014646Z
UID:1212-1761386400-1761393600@cafeconversationmidwest.com
SUMMARY:Café et Conversation - Sioux City
DESCRIPTION:Free\, casual French conversation! All levels welcome.\nThis month we’re meeting on the 4th Saturday (not the 3rd)\, so mark your calendar and join us for un café and une conversation.
URL:https://cafeconversationmidwest.com/event/cafe-et-conversation-sioux-city-8/
LOCATION:Council Oak Coffee Roasters\, 101 W 3rd\, Sioux City\, IA\, United States
ATTACH;FMTTYPE=image/jpeg:https://cafeconversationmidwest.com/wp-content/uploads/2025/10/counciloakpeople7.jpg
END:VEVENT
END:VCALENDAR