BEGIN:VCALENDAR
VERSION:2.0
PRODID:-//Café et Conversation Midwest - ECPv6.15.20//NONSGML v1.0//EN
CALSCALE:GREGORIAN
METHOD:PUBLISH
X-WR-CALNAME:Café et Conversation Midwest
X-ORIGINAL-URL:https://cafeconversationmidwest.com
X-WR-CALDESC:Events for Café et Conversation Midwest
REFRESH-INTERVAL;VALUE=DURATION:PT1H
X-Robots-Tag:noindex
X-PUBLISHED-TTL:PT1H
BEGIN:VTIMEZONE
TZID:America/Chicago
BEGIN:DAYLIGHT
TZOFFSETFROM:-0600
TZOFFSETTO:-0500
TZNAME:CDT
DTSTART:20240310T080000
END:DAYLIGHT
BEGIN:STANDARD
TZOFFSETFROM:-0500
TZOFFSETTO:-0600
TZNAME:CST
DTSTART:20241103T070000
END:STANDARD
BEGIN:DAYLIGHT
TZOFFSETFROM:-0600
TZOFFSETTO:-0500
TZNAME:CDT
DTSTART:20250309T080000
END:DAYLIGHT
BEGIN:STANDARD
TZOFFSETFROM:-0500
TZOFFSETTO:-0600
TZNAME:CST
DTSTART:20251102T070000
END:STANDARD
BEGIN:DAYLIGHT
TZOFFSETFROM:-0600
TZOFFSETTO:-0500
TZNAME:CDT
DTSTART:20260308T080000
END:DAYLIGHT
BEGIN:STANDARD
TZOFFSETFROM:-0500
TZOFFSETTO:-0600
TZNAME:CST
DTSTART:20261101T070000
END:STANDARD
END:VTIMEZONE
BEGIN:VEVENT
DTSTART;TZID=America/Chicago:20251004T123000
DTEND;TZID=America/Chicago:20251004T140000
DTSTAMP:20260420T185009
CREATED:20251002T000705Z
LAST-MODIFIED:20251002T000705Z
UID:1200-1759581000-1759586400@cafeconversationmidwest.com
SUMMARY:Parlons à Karma Koffee
DESCRIPTION:For October’s first event\, we will return to Karma Koffee. They have plenty of tasty options ranging from coffee\, tea and smoothies to breakfast items and pastries.\nKarma Koffee is located in Pepperwood Village near 156th and Dodge on the north side of the plaza.\nWe hope to see you there no matter your level of French!
URL:https://cafeconversationmidwest.com/event/parlons-a-karma-koffee/
LOCATION:Karma Koffee\, 587 North 155th Plaza\, Omaha\, NE
ATTACH;FMTTYPE=image/jpeg:https://cafeconversationmidwest.com/wp-content/uploads/2025/04/Karma-Koffee.jpg
END:VEVENT
END:VCALENDAR