BEGIN:VCALENDAR
VERSION:2.0
PRODID:-//Café et Conversation Midwest - ECPv6.15.20//NONSGML v1.0//EN
CALSCALE:GREGORIAN
METHOD:PUBLISH
X-ORIGINAL-URL:https://cafeconversationmidwest.com
X-WR-CALDESC:Events for Café et Conversation Midwest
REFRESH-INTERVAL;VALUE=DURATION:PT1H
X-Robots-Tag:noindex
X-PUBLISHED-TTL:PT1H
BEGIN:VTIMEZONE
TZID:America/Chicago
BEGIN:DAYLIGHT
TZOFFSETFROM:-0600
TZOFFSETTO:-0500
TZNAME:CDT
DTSTART:20240310T080000
END:DAYLIGHT
BEGIN:STANDARD
TZOFFSETFROM:-0500
TZOFFSETTO:-0600
TZNAME:CST
DTSTART:20241103T070000
END:STANDARD
BEGIN:DAYLIGHT
TZOFFSETFROM:-0600
TZOFFSETTO:-0500
TZNAME:CDT
DTSTART:20250309T080000
END:DAYLIGHT
BEGIN:STANDARD
TZOFFSETFROM:-0500
TZOFFSETTO:-0600
TZNAME:CST
DTSTART:20251102T070000
END:STANDARD
BEGIN:DAYLIGHT
TZOFFSETFROM:-0600
TZOFFSETTO:-0500
TZNAME:CDT
DTSTART:20260308T080000
END:DAYLIGHT
BEGIN:STANDARD
TZOFFSETFROM:-0500
TZOFFSETTO:-0600
TZNAME:CST
DTSTART:20261101T070000
END:STANDARD
END:VTIMEZONE
BEGIN:VEVENT
DTSTART;TZID=America/Chicago:20250830T150000
DTEND;TZID=America/Chicago:20250830T163000
DTSTAMP:20260420T221322
CREATED:20250829T145051Z
LAST-MODIFIED:20250829T145051Z
UID:1178-1756566000-1756571400@cafeconversationmidwest.com
SUMMARY:Parlons à Blue Line Coffee
DESCRIPTION:For our last August event\, we will be meeting at one of our original C&C hangouts\, Blue Line Coffee in Dundee. Blue Line sells coffee\, tea and hot chocolate as well as some pastry items. We can also bring in our own wine.\nParking can be found on Underwood Avenue and in the clinic parking lot northwest of 50th and Underwood.\nEveryone is welcome\, no matter if you are a beginner\, a native French speaker\, or somewhere in between. This is an all-ages venue so we especially encourage our high school and college-age members to attend!\nWe hope to see you there!
URL:https://cafeconversationmidwest.com/event/parlons-a-blue-line-coffee-3/
LOCATION:Blue Line Coffee\, 4924 Underwood Ave\, Omaha\, NE\, 68132\, United States
ATTACH;FMTTYPE=image/jpeg:https://cafeconversationmidwest.com/wp-content/uploads/2025/03/484126401_10171013849855109_1659381542779050909_n.jpg
END:VEVENT
END:VCALENDAR