BEGIN:VCALENDAR
VERSION:2.0
PRODID:-//Café et Conversation Midwest - ECPv6.15.20//NONSGML v1.0//EN
CALSCALE:GREGORIAN
METHOD:PUBLISH
X-WR-CALNAME:Café et Conversation Midwest
X-ORIGINAL-URL:https://cafeconversationmidwest.com
X-WR-CALDESC:Events for Café et Conversation Midwest
REFRESH-INTERVAL;VALUE=DURATION:PT1H
X-Robots-Tag:noindex
X-PUBLISHED-TTL:PT1H
BEGIN:VTIMEZONE
TZID:America/Chicago
BEGIN:DAYLIGHT
TZOFFSETFROM:-0600
TZOFFSETTO:-0500
TZNAME:CDT
DTSTART:20240310T080000
END:DAYLIGHT
BEGIN:STANDARD
TZOFFSETFROM:-0500
TZOFFSETTO:-0600
TZNAME:CST
DTSTART:20241103T070000
END:STANDARD
BEGIN:DAYLIGHT
TZOFFSETFROM:-0600
TZOFFSETTO:-0500
TZNAME:CDT
DTSTART:20250309T080000
END:DAYLIGHT
BEGIN:STANDARD
TZOFFSETFROM:-0500
TZOFFSETTO:-0600
TZNAME:CST
DTSTART:20251102T070000
END:STANDARD
BEGIN:DAYLIGHT
TZOFFSETFROM:-0600
TZOFFSETTO:-0500
TZNAME:CDT
DTSTART:20260308T080000
END:DAYLIGHT
BEGIN:STANDARD
TZOFFSETFROM:-0500
TZOFFSETTO:-0600
TZNAME:CST
DTSTART:20261101T070000
END:STANDARD
END:VTIMEZONE
BEGIN:VEVENT
DTSTART;TZID=America/Chicago:20250824T130000
DTEND;TZID=America/Chicago:20250824T143000
DTSTAMP:20260420T221203
CREATED:20250807T204008Z
LAST-MODIFIED:20250807T204008Z
UID:1163-1756040400-1756045800@cafeconversationmidwest.com
SUMMARY:Back to Basics au Café Durham (Musée d'art Joslyn)
DESCRIPTION:Join us for a relaxed and welcoming French conversation meetup at the Durham Café at the Joslyn Art Museum on Sunday\, August 24th!\nWhether you’re just starting out or you’ve been speaking French for years\, this is a judgement-free space for all levels to practice\, connect\, and enjoy good company.\nNo formal structure\, no pressure—just great conversation in French over coffee\, food\, or your favorite beverage (available for purchase at the café).\nBring a friend or come solo. C’est ouvert à tous !\nÀ bientôt !
URL:https://cafeconversationmidwest.com/event/back-to-basics-au-cafe-durham-musee-dart-joslyn/
LOCATION:Joslyn Art Museum\, 2200 Dodge St.\, NE\, 68102\, United States
ATTACH;FMTTYPE=image/jpeg:https://cafeconversationmidwest.com/wp-content/uploads/2024/11/joslyn.jpg
END:VEVENT
END:VCALENDAR