BEGIN:VCALENDAR
VERSION:2.0
PRODID:-//Café et Conversation Midwest - ECPv6.15.20//NONSGML v1.0//EN
CALSCALE:GREGORIAN
METHOD:PUBLISH
X-WR-CALNAME:Café et Conversation Midwest
X-ORIGINAL-URL:https://cafeconversationmidwest.com
X-WR-CALDESC:Events for Café et Conversation Midwest
REFRESH-INTERVAL;VALUE=DURATION:PT1H
X-Robots-Tag:noindex
X-PUBLISHED-TTL:PT1H
BEGIN:VTIMEZONE
TZID:America/Chicago
BEGIN:DAYLIGHT
TZOFFSETFROM:-0600
TZOFFSETTO:-0500
TZNAME:CDT
DTSTART:20240310T080000
END:DAYLIGHT
BEGIN:STANDARD
TZOFFSETFROM:-0500
TZOFFSETTO:-0600
TZNAME:CST
DTSTART:20241103T070000
END:STANDARD
BEGIN:DAYLIGHT
TZOFFSETFROM:-0600
TZOFFSETTO:-0500
TZNAME:CDT
DTSTART:20250309T080000
END:DAYLIGHT
BEGIN:STANDARD
TZOFFSETFROM:-0500
TZOFFSETTO:-0600
TZNAME:CST
DTSTART:20251102T070000
END:STANDARD
BEGIN:DAYLIGHT
TZOFFSETFROM:-0600
TZOFFSETTO:-0500
TZNAME:CDT
DTSTART:20260308T080000
END:DAYLIGHT
BEGIN:STANDARD
TZOFFSETFROM:-0500
TZOFFSETTO:-0600
TZNAME:CST
DTSTART:20261101T070000
END:STANDARD
END:VTIMEZONE
BEGIN:VEVENT
DTSTART;TZID=America/Chicago:20250814T180000
DTEND;TZID=America/Chicago:20250814T193000
DTSTAMP:20260420T221202
CREATED:20250813T004416Z
LAST-MODIFIED:20250813T004416Z
UID:1165-1755194400-1755199800@cafeconversationmidwest.com
SUMMARY:Parlons à Sonny's
DESCRIPTION:This month\, AFO’s regular second Thursday of the month Apéro will be taking a break. However\, C&C will be scheduling a meeting in its place at the same location at almost the same time.\nSonny’s is an outdoor venue in Aksarben Village next to Inner Rail and the dog park. They offer wine\, beer\, cocktails and non-alcoholic options. They don’t serve food\, but you can pick up or order food from Inner Rail and eat it in the Sonny’s area.\nAll levels are welcome and encouraged to come. We hope to see you there!
URL:https://cafeconversationmidwest.com/event/parlons-a-sonnys/
LOCATION:Sonny’s\, 1905 South 67th Street\, Omaha\, NE\, 68106\, United States
ATTACH;FMTTYPE=image/jpeg:https://cafeconversationmidwest.com/wp-content/uploads/2025/08/sonnys.jpg
END:VEVENT
END:VCALENDAR