BEGIN:VCALENDAR
VERSION:2.0
PRODID:-//Café et Conversation Midwest - ECPv6.15.20//NONSGML v1.0//EN
CALSCALE:GREGORIAN
METHOD:PUBLISH
X-ORIGINAL-URL:https://cafeconversationmidwest.com
X-WR-CALDESC:Events for Café et Conversation Midwest
REFRESH-INTERVAL;VALUE=DURATION:PT1H
X-Robots-Tag:noindex
X-PUBLISHED-TTL:PT1H
BEGIN:VTIMEZONE
TZID:America/Chicago
BEGIN:DAYLIGHT
TZOFFSETFROM:-0600
TZOFFSETTO:-0500
TZNAME:CDT
DTSTART:20240310T080000
END:DAYLIGHT
BEGIN:STANDARD
TZOFFSETFROM:-0500
TZOFFSETTO:-0600
TZNAME:CST
DTSTART:20241103T070000
END:STANDARD
BEGIN:DAYLIGHT
TZOFFSETFROM:-0600
TZOFFSETTO:-0500
TZNAME:CDT
DTSTART:20250309T080000
END:DAYLIGHT
BEGIN:STANDARD
TZOFFSETFROM:-0500
TZOFFSETTO:-0600
TZNAME:CST
DTSTART:20251102T070000
END:STANDARD
BEGIN:DAYLIGHT
TZOFFSETFROM:-0600
TZOFFSETTO:-0500
TZNAME:CDT
DTSTART:20260308T080000
END:DAYLIGHT
BEGIN:STANDARD
TZOFFSETFROM:-0500
TZOFFSETTO:-0600
TZNAME:CST
DTSTART:20261101T070000
END:STANDARD
END:VTIMEZONE
BEGIN:VEVENT
DTSTART;TZID=America/Chicago:20250621T100000
DTEND;TZID=America/Chicago:20250621T120000
DTSTAMP:20260421T025124
CREATED:20250601T162803Z
LAST-MODIFIED:20250601T162803Z
UID:1109-1750500000-1750507200@cafeconversationmidwest.com
SUMMARY:Café et Conversation Sioux City
DESCRIPTION:What could be more pleasant than a Saturday morning in the spring with a cup of gourmet coffee\, friends and French conversation? \n  \nAnyone at all levels of French speaking skill are welcome. Come imagine that you’re relaxing in a charming café in the heart of Paris with not a care in the world.
URL:https://cafeconversationmidwest.com/event/cafe-et-conversation-sioux-city-6-21/
LOCATION:Council Oak Coffee Roasters\, 101 W 3rd\, Sioux City\, IA\, United States
ATTACH;FMTTYPE=image/jpeg:https://cafeconversationmidwest.com/wp-content/uploads/2025/06/counciloakpeople6-scaled.jpg
END:VEVENT
BEGIN:VEVENT
DTSTART;TZID=America/Chicago:20250621T120000
DTEND;TZID=America/Chicago:20250621T133000
DTSTAMP:20260421T025124
CREATED:20250430T224708Z
LAST-MODIFIED:20250430T224708Z
UID:1092-1750507200-1750512600@cafeconversationmidwest.com
SUMMARY:Café et Conversation Midwest at Karma Koffee
DESCRIPTION:Bonjour tout le monde!  \nWe’re returning to Karma Koffee for cette réunion. They have wonderful coffee/tea/smoothie libations and/or we can bring our own wine\, etc. Yummy food items too. If the weather’s warm\, they have a nice patio. Karma is in the Pepperwood Plaza\, 156th/Dodge area. (same plaza as Le Voltaire).  \nAll levels welcome\, venez rejoindre-nous!
URL:https://cafeconversationmidwest.com/event/cafe-et-conversation-midwest-at-karma-koffee/
LOCATION:Karma Koffee\, 587 North 155th Plaza\, Omaha\, NE
ATTACH;FMTTYPE=image/jpeg:https://cafeconversationmidwest.com/wp-content/uploads/2025/04/Karma-Koffee.jpg
END:VEVENT
END:VCALENDAR