BEGIN:VCALENDAR
VERSION:2.0
PRODID:-//Café et Conversation Midwest - ECPv6.15.20//NONSGML v1.0//EN
CALSCALE:GREGORIAN
METHOD:PUBLISH
X-WR-CALNAME:Café et Conversation Midwest
X-ORIGINAL-URL:https://cafeconversationmidwest.com
X-WR-CALDESC:Events for Café et Conversation Midwest
REFRESH-INTERVAL;VALUE=DURATION:PT1H
X-Robots-Tag:noindex
X-PUBLISHED-TTL:PT1H
BEGIN:VTIMEZONE
TZID:America/Chicago
BEGIN:DAYLIGHT
TZOFFSETFROM:-0600
TZOFFSETTO:-0500
TZNAME:CDT
DTSTART:20240310T080000
END:DAYLIGHT
BEGIN:STANDARD
TZOFFSETFROM:-0500
TZOFFSETTO:-0600
TZNAME:CST
DTSTART:20241103T070000
END:STANDARD
BEGIN:DAYLIGHT
TZOFFSETFROM:-0600
TZOFFSETTO:-0500
TZNAME:CDT
DTSTART:20250309T080000
END:DAYLIGHT
BEGIN:STANDARD
TZOFFSETFROM:-0500
TZOFFSETTO:-0600
TZNAME:CST
DTSTART:20251102T070000
END:STANDARD
BEGIN:DAYLIGHT
TZOFFSETFROM:-0600
TZOFFSETTO:-0500
TZNAME:CDT
DTSTART:20260308T080000
END:DAYLIGHT
BEGIN:STANDARD
TZOFFSETFROM:-0500
TZOFFSETTO:-0600
TZNAME:CST
DTSTART:20261101T070000
END:STANDARD
END:VTIMEZONE
BEGIN:VEVENT
DTSTART;TZID=America/Chicago:20250605T173000
DTEND;TZID=America/Chicago:20250605T193000
DTSTAMP:20260421T031304
CREATED:20250527T230959Z
LAST-MODIFIED:20250527T231538Z
UID:1100-1749144600-1749151800@cafeconversationmidwest.com
SUMMARY:Parlons à Vive le Rock Lounge
DESCRIPTION:We will be trying out a new (to us) venue for our first June event! Vive le Rock is a classic rock themed cocktail bar and record store near 120th and Center. They have a full bar with a special emphasis on rock-themed cocktails and mocktails. Happy hour ends at 6pm\, so get there before then if you want to take advantage of it! Vive le Rock does not have food for sale\, but they do allow people to bring in their own food.\nFree parking is available in the lot next to the building.\n\n\nMost of our regular C&C organizers will be out of town\, so our newest organizer\, Jennifer McGill\, has graciously agreed to organize and host this event (and will also do so for future events from time to time)\, so please welcome Jennifer to the team!\n\n\nAs always\, everyone is welcome\, from complete beginners to native speakers. We hope to see you there!
URL:https://cafeconversationmidwest.com/event/parlons-a-vive-le-rock-lounge/
LOCATION:Vive le Rock Lounge\, 12411 West Center Road\, Omaha\, NE\, 68144\, United States
ATTACH;FMTTYPE=image/jpeg:https://cafeconversationmidwest.com/wp-content/uploads/2025/05/vivelerock-1.jpg
ORGANIZER;CN="Jennifer McGill":MAILTO:jenandoah1@gmail.com
END:VEVENT
END:VCALENDAR