BEGIN:VCALENDAR
VERSION:2.0
PRODID:-//Café et Conversation Midwest - ECPv6.15.20//NONSGML v1.0//EN
CALSCALE:GREGORIAN
METHOD:PUBLISH
X-ORIGINAL-URL:https://cafeconversationmidwest.com
X-WR-CALDESC:Events for Café et Conversation Midwest
REFRESH-INTERVAL;VALUE=DURATION:PT1H
X-Robots-Tag:noindex
X-PUBLISHED-TTL:PT1H
BEGIN:VTIMEZONE
TZID:UTC
BEGIN:STANDARD
TZOFFSETFROM:+0000
TZOFFSETTO:+0000
TZNAME:UTC
DTSTART:20240101T000000
END:STANDARD
END:VTIMEZONE
BEGIN:VEVENT
DTSTART;TZID=UTC:20250227T173000
DTEND;TZID=UTC:20250227T190000
DTSTAMP:20260421T090754
CREATED:20250130T055239Z
LAST-MODIFIED:20250130T055239Z
UID:987-1740677400-1740682800@cafeconversationmidwest.com
SUMMARY:Parlons à Corkscrew Rockbrook
DESCRIPTION:Bonjour tout le monde! Come on back to the Corkscrew Wine & Cheese bar Rockbrook to hone your français skills. Venez vous rejoindre! All levels welcome per usual. À bientôt!
URL:https://cafeconversationmidwest.com/event/parlons-a-corkscrew-rockbrook/
LOCATION:Corkscrew Rockbrook\, 10924 Prairie Brook Rd\, Omaha\, NE\, 68144\, United States
ATTACH;FMTTYPE=image/jpeg:https://cafeconversationmidwest.com/wp-content/uploads/2025/01/457795500_10235363234252055_2133153464293743974_n-1.jpg
END:VEVENT
END:VCALENDAR