BEGIN:VCALENDAR
VERSION:2.0
PRODID:-//Café et Conversation Midwest - ECPv6.15.20//NONSGML v1.0//EN
CALSCALE:GREGORIAN
METHOD:PUBLISH
X-WR-CALNAME:Café et Conversation Midwest
X-ORIGINAL-URL:https://cafeconversationmidwest.com
X-WR-CALDESC:Events for Café et Conversation Midwest
REFRESH-INTERVAL;VALUE=DURATION:PT1H
X-Robots-Tag:noindex
X-PUBLISHED-TTL:PT1H
BEGIN:VTIMEZONE
TZID:UTC
BEGIN:STANDARD
TZOFFSETFROM:+0000
TZOFFSETTO:+0000
TZNAME:UTC
DTSTART:20240101T000000
END:STANDARD
END:VTIMEZONE
BEGIN:VEVENT
DTSTART;TZID=UTC:20250130T183000
DTEND;TZID=UTC:20250130T200000
DTSTAMP:20260421T104407
CREATED:20250103T044033Z
LAST-MODIFIED:20250130T053414Z
UID:959-1738261800-1738267200@cafeconversationmidwest.com
SUMMARY:Parlons à Barroco Bar and Wine
DESCRIPTION:Bonjour tout le monde. Let’s meet at the Barroco Wine Bar. They not only have a full bar menu\, but delicious nibbles\, too! As always\, all levels welcome; venez nous rejoindre. À bientôt!
URL:https://cafeconversationmidwest.com/event/parlons-a-barroco-bar-and-wine/
LOCATION:Barroco Wine Bar\, 2935 S 108th St\, Omaha\, NE\, 68144\, United States
ATTACH;FMTTYPE=image/jpeg:https://cafeconversationmidwest.com/wp-content/uploads/2025/01/465670213_1015566173706211_4292250702696657254_n.jpg
END:VEVENT
END:VCALENDAR