BEGIN:VCALENDAR
VERSION:2.0
PRODID:-//Café et Conversation Midwest - ECPv6.15.20//NONSGML v1.0//EN
CALSCALE:GREGORIAN
METHOD:PUBLISH
X-WR-CALNAME:Café et Conversation Midwest
X-ORIGINAL-URL:https://cafeconversationmidwest.com
X-WR-CALDESC:Events for Café et Conversation Midwest
REFRESH-INTERVAL;VALUE=DURATION:PT1H
X-Robots-Tag:noindex
X-PUBLISHED-TTL:PT1H
BEGIN:VTIMEZONE
TZID:UTC
BEGIN:STANDARD
TZOFFSETFROM:+0000
TZOFFSETTO:+0000
TZNAME:UTC
DTSTART:20230101T000000
END:STANDARD
END:VTIMEZONE
BEGIN:VEVENT
DTSTART;TZID=UTC:20241214T101500
DTEND;TZID=UTC:20241214T120000
DTSTAMP:20260421T135150
CREATED:20241105T074437Z
LAST-MODIFIED:20241105T074437Z
UID:940-1734171300-1734177600@cafeconversationmidwest.com
SUMMARY:Back to Basics
DESCRIPTION:If you’re just starting out in French or you’re wanting to do a refresh\, this event is for you. Having said that\, if you’re at an advanced level\, why not come and share your expertise? \nAnd to make things more interesting\, why not brush up on your vocabulary related to art and museums? Come prepared to talk about a favorite painting. And hey\, there’s no shame in reading from a notebook. Better yet\, take us to SEE your favorite work at Joslyn and then be prepared to tell us about it in FRENCH. \nWe’ll start off by meeting in the cafe area. They have a full menu of coffee drinks and some delicious pastries. Hang out in the cafe area or organically pair up with a partner to go wandering through the museum. It’s up to you! \nRemember\, learning French is FUN!
URL:https://cafeconversationmidwest.com/event/back-to-basics-3/
LOCATION:Joslyn Art Museum\, 2200 Dodge St.\, NE\, 68102\, United States
ATTACH;FMTTYPE=image/jpeg:https://cafeconversationmidwest.com/wp-content/uploads/2024/11/joslyn.jpg
END:VEVENT
END:VCALENDAR