BEGIN:VCALENDAR
VERSION:2.0
PRODID:-//Café et Conversation Midwest - ECPv6.15.20//NONSGML v1.0//EN
CALSCALE:GREGORIAN
METHOD:PUBLISH
X-WR-CALNAME:Café et Conversation Midwest
X-ORIGINAL-URL:https://cafeconversationmidwest.com
X-WR-CALDESC:Events for Café et Conversation Midwest
REFRESH-INTERVAL;VALUE=DURATION:PT1H
X-Robots-Tag:noindex
X-PUBLISHED-TTL:PT1H
BEGIN:VTIMEZONE
TZID:UTC
BEGIN:STANDARD
TZOFFSETFROM:+0000
TZOFFSETTO:+0000
TZNAME:UTC
DTSTART:20230101T000000
END:STANDARD
END:VTIMEZONE
BEGIN:VEVENT
DTSTART;TZID=UTC:20241102T180000
DTEND;TZID=UTC:20241102T193000
DTSTAMP:20260421T152504
CREATED:20241027T210908Z
LAST-MODIFIED:20241027T210908Z
UID:912-1730570400-1730575800@cafeconversationmidwest.com
SUMMARY:C&C/Apéro Lincoln
DESCRIPTION:Please join us at Mettle Grill for our November Lincoln meet up. Mettle Grill has ample parking\, a full menu and drinks. Please RSVP my clicking “Going” on our Facebook page so we can be sure to have a large enough table for our group. \nHere’s the link on Facebook: https://tinyurl.com/yafaj4nh \nIf you’re not on Facebook\, email your RSVP: info@CafeConversationMidwest. \n 
URL:https://cafeconversationmidwest.com/event/cc-apero-lincoln/
LOCATION:The Mettle Grill\, 5500 South 56th Street\, Lincoln\, NE
ATTACH;FMTTYPE=image/jpeg:https://cafeconversationmidwest.com/wp-content/uploads/2024/10/Mettle.jpg
END:VEVENT
END:VCALENDAR