BEGIN:VCALENDAR
VERSION:2.0
PRODID:-//Café et Conversation Midwest - ECPv6.15.20//NONSGML v1.0//EN
CALSCALE:GREGORIAN
METHOD:PUBLISH
X-ORIGINAL-URL:https://cafeconversationmidwest.com
X-WR-CALDESC:Events for Café et Conversation Midwest
REFRESH-INTERVAL;VALUE=DURATION:PT1H
X-Robots-Tag:noindex
X-PUBLISHED-TTL:PT1H
BEGIN:VTIMEZONE
TZID:UTC
BEGIN:STANDARD
TZOFFSETFROM:+0000
TZOFFSETTO:+0000
TZNAME:UTC
DTSTART:20230101T000000
END:STANDARD
END:VTIMEZONE
BEGIN:VEVENT
DTSTART;TZID=UTC:20240925T173000
DTEND;TZID=UTC:20240925T190000
DTSTAMP:20260421T185740
CREATED:20240923T202033Z
LAST-MODIFIED:20240923T202033Z
UID:848-1727285400-1727290800@cafeconversationmidwest.com
SUMMARY:A New Location—C&C at Cellar 44!
DESCRIPTION:Yay! We’re meeting at a new place for this event: Cellar 44 in The Shops of Legacy in West O. Plenty of the usual libations plus nice appetizers and charcuteries. \nComme d’habitude\, all levels welcome. Venez nous rejoindre!
URL:https://cafeconversationmidwest.com/event/a-new-location-cc-at-cellar-44/
LOCATION:Cellar 44\, 2835 South 170th Plaza\, Omaha\, NE\, 68130\, United States
ATTACH;FMTTYPE=image/jpeg:https://cafeconversationmidwest.com/wp-content/uploads/2024/09/456790845_10230547866074759_3748818922041364915_n.jpg
END:VEVENT
END:VCALENDAR