BEGIN:VCALENDAR
VERSION:2.0
PRODID:-//Café et Conversation Midwest - ECPv6.15.20//NONSGML v1.0//EN
CALSCALE:GREGORIAN
METHOD:PUBLISH
X-ORIGINAL-URL:https://cafeconversationmidwest.com
X-WR-CALDESC:Events for Café et Conversation Midwest
REFRESH-INTERVAL;VALUE=DURATION:PT1H
X-Robots-Tag:noindex
X-PUBLISHED-TTL:PT1H
BEGIN:VTIMEZONE
TZID:UTC
BEGIN:STANDARD
TZOFFSETFROM:+0000
TZOFFSETTO:+0000
TZNAME:UTC
DTSTART:20230101T000000
END:STANDARD
END:VTIMEZONE
BEGIN:VEVENT
DTSTART;TZID=UTC:20240824T103000
DTEND;TZID=UTC:20240824T120000
DTSTAMP:20260421T203908
CREATED:20240820T031538Z
LAST-MODIFIED:20240820T031538Z
UID:806-1724495400-1724500800@cafeconversationmidwest.com
SUMMARY:Riverfront Terrace
DESCRIPTION:It may not be the Seine\, but if you use your imagination maybe\, just maybe\, the Missouri River will turn into the Seine\, if even for a few moments. \nIf you haven’t yet been to The Terrace\, it’s a brand-new café that offers beautiful views of the downtown Omaha skyline\, plus they have some delicious eats! \nIt’s also super easy to get to. If you’re coming from the Nebraska side just pop over the interstate to the Rivers Edge area on the Missouri. Or if you’re feeling more adventurous\, park on the Omaha side and walk over the Bob Kerrey Bridge. It’s literally 5 minutes from the bridge… \nAs always\, all levels welcome! From beginners to native speakers and everyone in between
URL:https://cafeconversationmidwest.com/event/riverfront-terrace/
LOCATION:The Terrace\, 4201 Rivers Edge Pkwy Suite 100\, Council Bluffs\, NE\, 51501\, United States
ATTACH;FMTTYPE=image/jpeg:https://cafeconversationmidwest.com/wp-content/uploads/2024/08/Unknown.jpeg
END:VEVENT
END:VCALENDAR