BEGIN:VCALENDAR
VERSION:2.0
PRODID:-//Café et Conversation Midwest - ECPv6.15.20//NONSGML v1.0//EN
CALSCALE:GREGORIAN
METHOD:PUBLISH
X-WR-CALNAME:Café et Conversation Midwest
X-ORIGINAL-URL:https://cafeconversationmidwest.com
X-WR-CALDESC:Events for Café et Conversation Midwest
REFRESH-INTERVAL;VALUE=DURATION:PT1H
X-Robots-Tag:noindex
X-PUBLISHED-TTL:PT1H
BEGIN:VTIMEZONE
TZID:UTC
BEGIN:STANDARD
TZOFFSETFROM:+0000
TZOFFSETTO:+0000
TZNAME:UTC
DTSTART:20230101T000000
END:STANDARD
END:VTIMEZONE
BEGIN:VEVENT
DTSTART;TZID=UTC:20240814T180000
DTEND;TZID=UTC:20240814T193000
DTSTAMP:20260421T203901
CREATED:20240808T221808Z
LAST-MODIFIED:20240813T030008Z
UID:782-1723658400-1723663800@cafeconversationmidwest.com
SUMMARY:Jardins Bohèmes
DESCRIPTION:It may not be Montmartre or the Latin Quarter of Paris\, but it’s still the perfect spot to get your French on. Not only is this a beautiful place to speak and practice French\, they offer pizza from Via Farina. And yes\, there’s a full bar!
URL:https://cafeconversationmidwest.com/event/jardins-bohemes/
LOCATION:The Bohemian Gardens\, 1424 S 13th St.\, Omaha\, NE\, 68108\, United States
ATTACH;FMTTYPE=image/jpeg:https://cafeconversationmidwest.com/wp-content/uploads/2024/08/IMG_5096_9392B871-B15B-0642-9D46BC9BD234E3BB-9392a9f89b94f33_9392e47e-b484-03db-16bdc44eae6f4098.jpg
END:VEVENT
END:VCALENDAR