BEGIN:VCALENDAR
VERSION:2.0
PRODID:-//Café et Conversation Midwest - ECPv6.15.20//NONSGML v1.0//EN
CALSCALE:GREGORIAN
METHOD:PUBLISH
X-WR-CALNAME:Café et Conversation Midwest
X-ORIGINAL-URL:https://cafeconversationmidwest.com
X-WR-CALDESC:Events for Café et Conversation Midwest
REFRESH-INTERVAL;VALUE=DURATION:PT1H
X-Robots-Tag:noindex
X-PUBLISHED-TTL:PT1H
BEGIN:VTIMEZONE
TZID:UTC
BEGIN:STANDARD
TZOFFSETFROM:+0000
TZOFFSETTO:+0000
TZNAME:UTC
DTSTART:20230101T000000
END:STANDARD
END:VTIMEZONE
BEGIN:VEVENT
DTSTART;TZID=UTC:20240811T130000
DTEND;TZID=UTC:20240811T143000
DTSTAMP:20260421T203902
CREATED:20240808T221345Z
LAST-MODIFIED:20240808T223235Z
UID:779-1723381200-1723386600@cafeconversationmidwest.com
SUMMARY:Back 2 Basics
DESCRIPTION:Imagine sipping a coffee or a glass of wine along the Seine in Paris…okay\, the Missouri River isn’t quite the same thing\, BUT you can still sip a coffee or wine along the river and speak French! \nWe’ll meet again at The Fig along Omaha’s Riverfront—near the old location for Rick’s Boatyard. Hoping for shade and a cool breeze! \nI would like everyone to practice ordering a meal in a French Bistro. We will pair up with one person being the customer and the other the server. \nBe as detailed as you want\, order a drink\, appetizer\, entree and dessert. When you are finished exchange roles. Do you sense a re-occurring theme in my thinking? Practice both role in French and lets have fun. All French speaking levels welcome. \nFig offers a full array of coffee\, some sandwiches and other food\, and some wine and beer. \nCiao! \n—Dennis
URL:https://cafeconversationmidwest.com/event/back-2-basics-2/
LOCATION:Fig\, 345 Riverfront Dr\, Omaha\, Nebraska
ATTACH;FMTTYPE=image/avif:https://cafeconversationmidwest.com/wp-content/uploads/2024/08/IMG_2467_CFDE7C66-5056-A36A-09D38BA78DD4604D-cfde772c5056a36_cfde8489-5056-a36a-091dabfd1aa255f1.jpg.avif
END:VEVENT
END:VCALENDAR